Felt | Verdi |
AlreadyApplied | True |
Aperture | 13.0 |
ApertureValue | 13.0 |
Artist | ALEK.M |
AutoLateralCA | 1 |
AutoWhiteVersion | 134348800 |
BitsPerSample | 8 |
Blacks2012 | -28 |
BlueHue | 0 |
BlueSaturation | 0 |
By-line | ALEK.M |
CameraProfile | Adobe Standard |
CircleOfConfusion | 0.020 mm |
Clarity2012 | +31 |
ColorComponents | 3 |
ColorNoiseReduction | 25 |
ColorNoiseReductionDetail | 50 |
ColorNoiseReductionSmoothness | 50 |
ColorTemperature | 5300 |
ColorTransform | YCbCr |
Contrast | Normal |
Contrast2012 | +16 |
ConvertToGrayscale | False |
Copyright | ALEK.M |
CopyrightNotice | ALEK.M |
CreateDate | 2014:06:08 11:42:36 |
Creator | ALEK.M |
CreatorTool | Adobe Photoshop Lightroom 5.3 (Windows) |
CropAngle | 0 |
CropBottom | 0.890274 |
CropConstrainToWarp | 1 |
CropLeft | 0 |
CropRight | 1 |
CropTop | 0 |
CustomRendered | Normal |
DateCreated (1) | 2014:06:08 |
DateCreated | 2014:06:08 11:42:36 |
DateTimeOriginal | 2014:06:08 11:42:36 |
DefringeGreenAmount | 0 |
DefringeGreenHueHi | 60 |
DefringeGreenHueLo | 40 |
DefringePurpleAmount | 0 |
DefringePurpleHueHi | 70 |
DefringePurpleHueLo | 30 |
Exposure2012 | +0.35 |
ExposureCompensation | 0 |
ExposureMode | Auto |
ExposureProgram | Aperture-priority AE |
ExposureTime | 1/160 |
Flash | Off, Did not fire |
FNumber | 13.0 |
FocalLength | 27.0 mm |
FocalLength35efl | 27.0 mm (35 mm equivalent: 40.0 mm) |
FocalLengthIn35mmFormat | 40 mm |
Format | image/jpeg |
FOV | 48.5 deg |
GradientBasedCorrActive | true |
GradientBasedCorrAmount | 1.000000 |
GradientBasedCorrBrightness | 0.000000 |
GradientBasedCorrClarity2012 | 0.000000 |
GradientBasedCorrContrast2012 | 0.000000 |
GradientBasedCorrDefringe | 0.000000 |
GradientBasedCorrExposure2012 (1) | 0.100000 |
GradientBasedCorrExposure2012 | -0.050000 |
GradientBasedCorrHighlights2012 (1) | 0.000000 |
GradientBasedCorrHighlights2012 | -0.195400 |
GradientBasedCorrHue | 0.000000 |
GradientBasedCorrLuminanceNoise | 0.000000 |
GradientBasedCorrMaskFullX (1) | 0.539317 |
GradientBasedCorrMaskFullX | 0.498186 |
GradientBasedCorrMaskFullY (1) | 0.720241 |
GradientBasedCorrMaskFullY | 0.220836 |
GradientBasedCorrMaskValue | 1.000000 |
GradientBasedCorrMaskWhat | Mask/Gradient |
GradientBasedCorrMaskZeroX (1) | 0.538037 |
GradientBasedCorrMaskZeroX | 0.504228 |
GradientBasedCorrMaskZeroY (1) | 0.346724 |
GradientBasedCorrMaskZeroY | 0.483531 |
GradientBasedCorrMoire | 0.000000 |
GradientBasedCorrSaturation | 0.000000 |
GradientBasedCorrShadows2012 (1) | 0.218390 |
GradientBasedCorrShadows2012 | 0.333330 |
GradientBasedCorrSharpness | 0.000000 |
GradientBasedCorrTemperature | 0.000000 |
GradientBasedCorrTint | 0.000000 |
GradientBasedCorrWhat | Correction |
GrainAmount | 0 |
GreenHue | 0 |
GreenSaturation | 0 |
HasCrop | True |
HasSettings | True |
Highlights2012 | -4 |
HueAdjustmentAqua | 0 |
HueAdjustmentBlue | 0 |
HueAdjustmentGreen | 0 |
HueAdjustmentMagenta | 0 |
HueAdjustmentOrange | 0 |
HueAdjustmentPurple | 0 |
HueAdjustmentRed | 0 |
HueAdjustmentYellow | 0 |
HyperfocalDistance | 2.76 m |
ImageHeight | 1776 |
ImageSize | 3000x1776 |
ImageWidth | 3000 |
ISO | 100 |
LensID (1) | 8 21 |
LensID | Sigma 17-50mm F2.8 EX DC OS HSM |
LensManualDistortionAmount | 0 |
LensProfileChromaticAberrationScale | 100 |
LensProfileDistortionScale | 100 |
LensProfileEnable | 1 |
LensProfileFilename | Canon (SIGMA 17-50mm F2.8 EX DC OS HSM) - RAW.lcp |
LensProfileName | Adobe (SIGMA 17-50mm F2.8 EX DC OS HSM, Canon) |
LensProfileSetup | Custom |
LensProfileVignettingScale | 100 |
LightValue | 14.7 |
LuminanceAdjustmentAqua | 0 |
LuminanceAdjustmentBlue | 0 |
LuminanceAdjustmentGreen | 0 |
LuminanceAdjustmentMagenta | 0 |
LuminanceAdjustmentOrange | 0 |
LuminanceAdjustmentPurple | 0 |
LuminanceAdjustmentRed | 0 |
LuminanceAdjustmentYellow | 0 |
LuminanceNoiseReductionContrast | 0 |
LuminanceNoiseReductionDetail | 83 |
LuminanceSmoothing | 25 |
Make | RICOH IMAGING COMPANY, LTD. |
Megapixels | 5.3 |
MeteringMode | Multi-segment |
Model | PENTAX K-3 |
ModifyDate (1) | 2014:06:17 21:37:26+02:00 |
ModifyDate | 2014:06:17 21:37:26 |
ParametricDarks | 0 |
ParametricHighlights | 0 |
ParametricHighlightSplit | 75 |
ParametricLights | 0 |
ParametricMidtoneSplit | 50 |
ParametricShadows | 0 |
ParametricShadowSplit | 25 |
PerspectiveAspect | 0 |
PerspectiveHorizontal | 0 |
PerspectiveRotate | 0.0 |
PerspectiveScale | 100 |
PerspectiveUpright | 1 |
PerspectiveVertical | 0 |
PostCropVignetteAmount | 0 |
ProcessVersion | 6.7 |
ProfileDescription | sRGB IEC61966-2.1 |
RedHue | 0 |
RedSaturation | 0 |
Rights | ALEK.M |
Saturation (1) | +9 |
Saturation | Normal |
SaturationAdjustmentAqua | 0 |
SaturationAdjustmentBlue | 0 |
SaturationAdjustmentGreen | 0 |
SaturationAdjustmentMagenta | 0 |
SaturationAdjustmentOrange | 0 |
SaturationAdjustmentPurple | 0 |
SaturationAdjustmentRed | 0 |
SaturationAdjustmentYellow | 0 |
ScaleFactor35efl | 1.5 |
SceneCaptureType | Standard |
SensingMethod | One-chip color area |
SensitivityType | Standard Output Sensitivity |
Shadows2012 | +4 |
ShadowTint | 0 |
SharpenDetail | 40 |
SharpenEdgeMasking | 0 |
SharpenRadius | +0.8 |
Sharpness (1) | 73 |
Sharpness | Normal |
ShutterSpeed | 1/160 |
ShutterSpeedValue | 1/160 |
Software | Adobe Photoshop Lightroom 5.3 (Windows) |
SplitToningBalance | 0 |
SplitToningHighlightHue | 0 |
SplitToningHighlightSaturation | 0 |
SplitToningShadowHue | 0 |
SplitToningShadowSaturation | 0 |
StandardOutputSensitivity | 100 |
SubjectDistanceRange | Distant |
Tint | +7 |
ToneCurveName2012 | Linear |
ToneCurvePV2012 | 0, 0, 255, 255 |
ToneCurvePV2012Blue | 0, 0, 255, 255 |
ToneCurvePV2012Green | 0, 0, 255, 255 |
ToneCurvePV2012Red | 0, 0, 255, 255 |
Version | 8.3 |
Vibrance | 0 |
VignetteAmount | 0 |
WhiteBalance (1) | As Shot |
WhiteBalance | Auto |
Whites2012 | +29 |