Felt | Verdi |
AlreadyApplied | True |
AutoLateralCA | 0 |
AutoWhiteVersion | 134348800 |
BitsPerSample | 8 |
Blacks2012 | -62 |
BlueHue | 0 |
BlueSaturation | 0 |
CameraProfile | Adobe Standard |
CFAPattern | [Red,Green][Green,Blue] |
Clarity2012 | -100 |
ColorComponents | 3 |
ColorMode | RGB |
ColorNoiseReduction | 25 |
ColorNoiseReductionDetail | 50 |
ColorNoiseReductionSmoothness | 50 |
ColorSpace | Uncalibrated |
ColorTemperature | 5250 |
ColorTransform | YCbCr |
Contrast | Normal |
Contrast2012 | +100 |
ConvertToGrayscale | True |
CreateDate (1) | 2014:06:27 14:08:25.24 |
CreateDate | 2014:06:27 14:08:25 |
CreatorTool | Adobe Photoshop Lightroom 5.3 (Windows) |
CropAngle | 0 |
CropBottom | 1 |
CropConstrainToWarp | 0 |
CropLeft | 0.312998 |
CropRight | 0.771883 |
CropTop | 0.250996 |
CustomRendered | Normal |
DateCreated | 2014:06:27 |
DateTimeOriginal (1) | 2014:06:27 14:08:25+02:00 |
DateTimeOriginal | 2014:06:27 14:08:25 |
DigitalZoomRatio | 1 |
ExifImageHeight | 1953 |
ExifImageWidth | 1963 |
Exposure2012 | +0.06 |
ExposureCompensation | +4/3 |
ExposureMode | Auto |
ExposureProgram | Aperture-priority AE |
ExposureTime | 1/250 |
Flash | No Flash |
FlashFired | False |
FlashFunction | False |
FlashMode | Unknown |
FlashRedEyeMode | False |
FlashReturn | No return detection |
Format | image/jpeg |
GainControl | High gain up |
GrainAmount | 0 |
GrayMixerAqua | -15 |
GrayMixerBlue | +14 |
GrayMixerGreen | -28 |
GrayMixerMagenta | +2 |
GrayMixerOrange | -21 |
GrayMixerPurple | +17 |
GrayMixerRed | -12 |
GrayMixerYellow | -25 |
GreenHue | 0 |
GreenSaturation | 0 |
HasCrop | True |
HasSettings | True |
Highlights2012 | +100 |
ICCProfileName | ProPhoto RGB |
ImageHeight | 1953 |
ImageNumber | 59586 |
ImageSize | 1963x1953 |
ImageWidth | 1963 |
ISO | 12800 |
Lens | 0.0 mm f/0.0 |
LensInfo | 0mm f/0 |
LensManualDistortionAmount | 0 |
LensModel | 0.0 mm f/0.0 |
LensProfileEnable | 0 |
LensProfileSetup | LensDefaults |
LightSource | Unknown |
LuminanceSmoothing | 0 |
Make | NIKON CORPORATION |
MaxApertureValue | 1.0 |
Megapixels | 3.8 |
MeteringMode | Center-weighted average |
Model | NIKON D3S |
ModifyDate (1) | 2014:06:28 19:38:03+02:00 |
ModifyDate | 2014:06:28 19:38:03 |
Orientation | Horizontal (normal) |
ParametricDarks | 0 |
ParametricHighlights | 0 |
ParametricHighlightSplit | 75 |
ParametricLights | 0 |
ParametricMidtoneSplit | 50 |
ParametricShadows | 0 |
ParametricShadowSplit | 25 |
PerspectiveAspect | 0 |
PerspectiveHorizontal | 0 |
PerspectiveRotate | 0.0 |
PerspectiveScale | 100 |
PerspectiveUpright | 0 |
PerspectiveVertical | 0 |
PostCropVignetteAmount | 0 |
ProcessVersion | 6.7 |
ProfileDescription | ProPhoto RGB |
RedHue | 0 |
RedSaturation | 0 |
Saturation | Normal |
SceneCaptureType | Standard |
SceneType | Directly photographed |
SensingMethod | One-chip color area |
SerialNumber | 2013371 |
Shadows2012 | -45 |
ShadowTint | 0 |
SharpenDetail | 25 |
SharpenEdgeMasking | 0 |
SharpenRadius | +1.0 |
Sharpness (1) | 25 |
Sharpness | Normal |
ShutterSpeed | 1/250 |
ShutterSpeedValue | 1/250 |
Software | Adobe Photoshop Elements 10.0 Windows |
SplitToningBalance | 0 |
SplitToningHighlightHue | 0 |
SplitToningHighlightSaturation | 0 |
SplitToningShadowHue | 0 |
SplitToningShadowSaturation | 0 |
SubjectDistanceRange | Unknown |
Tint | -11 |
ToneCurveName2012 | Linear |
ToneCurvePV2012 | 0, 0, 255, 255 |
ToneCurvePV2012Blue | 0, 0, 255, 255 |
ToneCurvePV2012Green | 0, 0, 255, 255 |
ToneCurvePV2012Red | 0, 0, 255, 255 |
URL_List | |
Version | 8.3 |
VignetteAmount | 0 |
WhiteBalance (1) | As Shot |
WhiteBalance | Auto |
Whites2012 | +100 |