Felt | Verdi |
AlreadyApplied | True |
Aperture | 6.3 |
ApertureValue | 6.3 |
ApproximateFocusDistance | 64.4 |
AutoLateralCA | 0 |
AutoWhiteVersion | 134348800 |
BitsPerSample | 8 |
Blacks2012 | +76 |
BlueHue | 0 |
BlueSaturation | 0 |
CameraProfile | Embedded |
CircleOfConfusion | 0.005 mm |
Clarity2012 | +41 |
ColorComponents | 3 |
ColorMode | RGB |
ColorNoiseReduction | 0 |
ColorSpace | sRGB |
ColorTransform | YCbCr |
Contrast2012 | 0 |
ConvertToGrayscale | False |
CreateDate | 2012:10:28 17:48:51 |
CreatorTool | Adobe Photoshop Lightroom 5.6 (Windows) |
CropAngle | -0.3 |
CropBottom | 0.99245 |
CropConstrainToWarp | 0 |
CropLeft | 0.023901 |
CropRight | 0.998014 |
CropTop | 0.023257 |
CustomRendered | Normal |
DateCreated | 2012:10:28 |
DateTimeOriginal (1) | 2012:10:28 17:48:51+01:00 |
DateTimeOriginal | 2012:10:28 17:48:51 |
DefringeGreenAmount | 0 |
DefringeGreenHueHi | 60 |
DefringeGreenHueLo | 40 |
DefringePurpleAmount | 0 |
DefringePurpleHueHi | 70 |
DefringePurpleHueLo | 30 |
DigitalZoomRatio | 1 |
DOF | inf (10.86 m - inf) |
ExifImageHeight | 900 |
ExifImageWidth | 1271 |
Exposure2012 | 0.00 |
ExposureCompensation | 0 |
ExposureMode | Manual |
ExposureTime | 1 |
Firmware | 1.00 |
Flash | Off, Did not fire |
FlashCompensation | 0 |
FlashFired | False |
FlashFunction | False |
FlashMode | Off |
FlashRedEyeMode | False |
FlashReturn | No return detection |
FNumber | 6.3 |
FocalLength | 21.0 mm |
FocalLength35efl | 21.0 mm (35 mm equivalent: 117.5 mm) |
Format | image/jpeg |
FOV | 17.4 deg |
GrainAmount | 0 |
GreenHue | 0 |
GreenSaturation | 0 |
HasCrop | True |
HasSettings | True |
Highlights2012 | 0 |
HueAdjustmentAqua | 0 |
HueAdjustmentBlue | 0 |
HueAdjustmentGreen | 0 |
HueAdjustmentMagenta | 0 |
HueAdjustmentOrange | 0 |
HueAdjustmentPurple | 0 |
HueAdjustmentRed | 0 |
HueAdjustmentYellow | 0 |
HyperfocalDistance | 13.05 m |
ICCProfileName | sRGB IEC61966-2.1 |
ImageHeight | 900 |
ImageSize | 1271x900 |
ImageWidth | 1271 |
IncrementalTemperature | 0 |
IncrementalTint | 0 |
ISO | 100 |
Lens | 4.5-90.0 mm |
LensInfo | 4.5-90mm f/? |
LensManualDistortionAmount | 0 |
LensModel | 4.5-90.0 mm |
LensProfileEnable | 0 |
LensProfileSetup | LensDefaults |
LightValue | 5.3 |
LuminanceAdjustmentAqua | 0 |
LuminanceAdjustmentBlue | 0 |
LuminanceAdjustmentGreen | +36 |
LuminanceAdjustmentMagenta | 0 |
LuminanceAdjustmentOrange | 0 |
LuminanceAdjustmentPurple | 0 |
LuminanceAdjustmentRed | +41 |
LuminanceAdjustmentYellow | 0 |
LuminanceSmoothing | 0 |
Make | Canon |
MaxApertureValue | 5.0 |
Megapixels | 1.1 |
MeteringMode | Multi-segment |
Model | Canon PowerShot SX240 HS |
ModifyDate (1) | 2014:09:22 08:16:09+02:00 |
ModifyDate | 2014:09:22 08:16:09 |
Orientation | Horizontal (normal) |
ParametricDarks | +3 |
ParametricHighlights | 0 |
ParametricHighlightSplit | 75 |
ParametricLights | -17 |
ParametricMidtoneSplit | 50 |
ParametricShadows | +31 |
ParametricShadowSplit | 25 |
PerspectiveAspect | 0 |
PerspectiveHorizontal | 0 |
PerspectiveRotate | 0.0 |
PerspectiveScale | 100 |
PerspectiveUpright | 0 |
PerspectiveVertical | 0 |
PostCropVignetteAmount | 0 |
ProcessVersion | 6.7 |
ProfileDescription | sRGB IEC61966-2.1 |
RedHue | 0 |
RedSaturation | 0 |
Saturation | +18 |
SaturationAdjustmentAqua | 0 |
SaturationAdjustmentBlue | 0 |
SaturationAdjustmentGreen | +23 |
SaturationAdjustmentMagenta | 0 |
SaturationAdjustmentOrange | -17 |
SaturationAdjustmentPurple | 0 |
SaturationAdjustmentRed | +93 |
SaturationAdjustmentYellow | -31 |
ScaleFactor35efl | 5.6 |
SceneCaptureType | Standard |
SensingMethod | One-chip color area |
SensitivityType | Standard Output Sensitivity and Recommended Exposure Index |
Shadows2012 | +28 |
ShadowTint | 0 |
SharpenDetail | 25 |
SharpenEdgeMasking | 0 |
SharpenRadius | +1.0 |
Sharpness | 0 |
ShutterSpeed | 1 |
ShutterSpeedValue | 1 |
Software | Adobe Photoshop Elements 10.0 Windows |
SplitToningBalance | 0 |
SplitToningHighlightHue | 0 |
SplitToningHighlightSaturation | 0 |
SplitToningShadowHue | 0 |
SplitToningShadowSaturation | 0 |
ToneCurve | 0, 0, 255, 255 |
ToneCurveBlue | 0, 0, 255, 255 |
ToneCurveGreen | 0, 0, 255, 255 |
ToneCurveName | Linear |
ToneCurveName2012 | Linear |
ToneCurvePV2012 | 0, 0, 255, 255 |
ToneCurvePV2012Blue | 0, 0, 255, 255 |
ToneCurvePV2012Green | 0, 0, 255, 255 |
ToneCurvePV2012Red | 0, 0, 255, 255 |
ToneCurveRed | 0, 0, 255, 255 |
URL_List | |
Version | 8.6 |
Vibrance | +28 |
VignetteAmount | 0 |
WhiteBalance (2) | As Shot |
WhiteBalance | Manual |
Whites2012 | 0 |