Felt | Verdi |
AlreadyApplied | True |
Aperture | 5.6 |
ApertureValue | 5.6 |
ApproximateFocusDistance | 4.47 |
Artist | Bo Valentin |
AutoLateralCA | 1 |
AutoWhiteVersion | 134348800 |
BitsPerSample | 8 |
Blacks2012 | -24 |
BlueHue | 0 |
BlueSaturation | 0 |
By-line | Bo Valentin |
CameraProfile | Adobe Standard |
CFAPattern | [Red,Green][Green,Blue] |
CircleOfConfusion | 0.030 mm |
Clarity2012 | +22 |
ColorComponents | 3 |
ColorNoiseReduction | 25 |
ColorNoiseReductionDetail | 50 |
ColorNoiseReductionSmoothness | 50 |
ColorTemperature | 4450 |
ColorTransform | YCbCr |
Contrast | Normal |
Contrast2012 | +46 |
ConvertToGrayscale | False |
Copyright | Bo Valentin |
CopyrightNotice | Bo Valentin |
CreateDate (1) | 2014:06:14 15:04:27.93 |
CreateDate | 2014:06:14 15:04:27 |
Creator | Bo Valentin |
CreatorTool | Adobe Photoshop Lightroom 5.7 (Macintosh) |
CropAngle | 0 |
CropBottom | 0.678721 |
CropConstrainToWarp | 0 |
CropLeft | 0.428151 |
CropRight | 0.750959 |
CropTop | 0.355305 |
CustomRendered | Normal |
DateCreated (1) | 2014:06:14 |
DateCreated | 2014:06:14 15:04:27.93 |
DateTimeOriginal | 2014:06:14 15:04:27 |
DefringeGreenAmount | 0 |
DefringeGreenHueHi | 60 |
DefringeGreenHueLo | 40 |
DefringePurpleAmount | 0 |
DefringePurpleHueHi | 70 |
DefringePurpleHueLo | 30 |
DigitalZoomRatio | 1 |
DOF | 0.07 m (4.44 - 4.51 m) |
Exposure2012 | +0.15 |
ExposureCompensation | 0 |
ExposureMode | Auto |
ExposureProgram | Aperture-priority AE |
ExposureTime | 1/500 |
Flash | No Flash |
FNumber | 5.6 |
FocalLength | 300.0 mm |
FocalLength35efl | 300.0 mm (35 mm equivalent: 300.0 mm) |
FocalLengthIn35mmFormat | 300 mm |
Format | image/jpeg |
FOV | 6.9 deg |
GainControl | None |
GrainAmount | 0 |
GreenHue | 0 |
GreenSaturation | 0 |
HasCrop | True |
HasExtendedXMP | 3A4F92EB6E9423895C6F7D18338A0243 |
HasSettings | True |
Highlights2012 | 0 |
HueAdjustmentAqua | 0 |
HueAdjustmentBlue | 0 |
HueAdjustmentGreen | 0 |
HueAdjustmentMagenta | 0 |
HueAdjustmentOrange | 0 |
HueAdjustmentPurple | 0 |
HueAdjustmentRed | 0 |
HueAdjustmentYellow | 0 |
HyperfocalDistance | 534.89 m |
ImageHeight | 2000 |
ImageNumber | 35058 |
ImageSize | 3000x2000 |
ImageWidth | 3000 |
ISO | 200 |
Keywords | rome roma italy italia summer estate june |
Lens | 70.0-300.0 mm f/4.5-5.6 |
LensID (1) | 141 |
LensID | AF-S VR Zoom-Nikkor 70-300mm f/4.5-5.6G IF-ED |
LensInfo | 70-300mm f/4.5-5.6 |
LensManualDistortionAmount | 0 |
LensModel | 70.0-300.0 mm f/4.5-5.6 |
LensProfileChromaticAberrationScale | 100 |
LensProfileDistortionScale | 100 |
LensProfileEnable | 1 |
LensProfileFilename | NIKON D700 (Nikon FX 70-300mm f4.5-5.6 G IF-ED VR) - RAW.lcp |
LensProfileName | Adobe (Nikon AF-S VR Zoom-Nikkor 70-300mm f/4.5-5.6G IF-ED) |
LensProfileSetup | LensDefaults |
LensProfileVignettingScale | 100 |
LightSource | Unknown |
LightValue | 12.9 |
LuminanceAdjustmentAqua | 0 |
LuminanceAdjustmentBlue | 0 |
LuminanceAdjustmentGreen | 0 |
LuminanceAdjustmentMagenta | 0 |
LuminanceAdjustmentOrange | 0 |
LuminanceAdjustmentPurple | 0 |
LuminanceAdjustmentRed | 0 |
LuminanceAdjustmentYellow | 0 |
LuminanceNoiseReductionContrast | 0 |
LuminanceNoiseReductionDetail | 50 |
LuminanceSmoothing | 27 |
Make | NIKON CORPORATION |
MaxApertureValue | 5.7 |
Megapixels | 6.0 |
MeteringMode | Spot |
Model | NIKON D3 |
ModifyDate (1) | 2015:03:01 22:16:53+01:00 |
ModifyDate | 2015:03:01 22:16:53 |
PaintCorrectionActive | true |
PaintCorrectionAmount | 1.000000 |
PaintCorrectionBrightness | 0.000000 |
PaintCorrectionClarity2012 (2) | 0.537316 |
PaintCorrectionClarity2012 (5) | 1.000000 |
PaintCorrectionClarity2012 | 0.000000 |
PaintCorrectionContrast2012 (3) | 1.000000 |
PaintCorrectionContrast2012 (9) | -1.000000 |
PaintCorrectionContrast2012 | 0.000000 |
PaintCorrectionDefringe | 0.000000 |
PaintCorrectionExposure2012 (1) | -0.444945 |
PaintCorrectionExposure2012 (10) | 0.000000 |
PaintCorrectionExposure2012 (11) | -1.000000 |
PaintCorrectionExposure2012 (2) | 0.249724 |
PaintCorrectionExposure2012 (3) | -0.563879 |
PaintCorrectionExposure2012 (4) | 0.031985 |
PaintCorrectionExposure2012 (6) | 0.572794 |
PaintCorrectionExposure2012 (7) | -0.284651 |
PaintCorrectionExposure2012 (8) | 0.037868 |
PaintCorrectionExposure2012 (9) | -0.247426 |
PaintCorrectionExposure2012 | 0.198805 |
PaintCorrectionHighlights2012 (11) | -1.000000 |
PaintCorrectionHighlights2012 (6) | 1.000000 |
PaintCorrectionHighlights2012 | 0.000000 |
PaintCorrectionHue | 240.000000 |
PaintCorrectionLuminanceNoise (10) | 1.000000 |
PaintCorrectionLuminanceNoise (3) | 0.453309 |
PaintCorrectionLuminanceNoise (4) | 0.331801 |
PaintCorrectionLuminanceNoise | 0.000000 |
PaintCorrectionMaskCenterWeight | 0.059145 |
PaintCorrectionMaskFlow | 0.462861 |
PaintCorrectionMaskRadius (1) | 0.017144 |
PaintCorrectionMaskRadius (102) | 0.001947 |
PaintCorrectionMaskRadius (105) | 0.004301 |
PaintCorrectionMaskRadius (106) | 0.004661 |
PaintCorrectionMaskRadius (122) | 0.003399 |
PaintCorrectionMaskRadius (137) | 0.003396 |
PaintCorrectionMaskRadius (145) | 0.002159 |
PaintCorrectionMaskRadius (147) | 0.003769 |
PaintCorrectionMaskRadius (164) | 0.003765 |
PaintCorrectionMaskRadius (165) | 0.003770 |
PaintCorrectionMaskRadius (167) | 0.002157 |
PaintCorrectionMaskRadius (169) | 0.005381 |
PaintCorrectionMaskRadius (170) | 0.005374 |
PaintCorrectionMaskRadius (174) | 0.003397 |
PaintCorrectionMaskRadius (194) | 0.001948 |
PaintCorrectionMaskRadius (196) | 0.004875 |
PaintCorrectionMaskRadius (199) | 0.003400 |
PaintCorrectionMaskRadius (200) | 0.000665 |
PaintCorrectionMaskRadius (202) | 0.003398 |
PaintCorrectionMaskRadius (22) | 0.003394 |
PaintCorrectionMaskRadius (23) | 0.003395 |
PaintCorrectionMaskRadius (26) | 0.004662 |
PaintCorrectionMaskRadius (31) | 0.003401 |
PaintCorrectionMaskRadius (36) | 0.009722 |
PaintCorrectionMaskRadius (37) | 0.006544 |
PaintCorrectionMaskRadius (42) | 0.001995 |
PaintCorrectionMaskRadius (58) | 0.004999 |
PaintCorrectionMaskRadius (67) | 0.003483 |
PaintCorrectionMaskRadius (75) | 0.003482 |
PaintCorrectionMaskRadius (80) | 0.006509 |
PaintCorrectionMaskRadius (81) | 0.001946 |
PaintCorrectionMaskRadius | 0.001945 |
PaintCorrectionMaskValue | 0.268094 |
PaintCorrectionMaskWhat | Mask/Paint |
PaintCorrectionMoire | 0.000000 |
PaintCorrectionSaturation (11) | 0.342096 |
PaintCorrectionSaturation (17) | -1.000000 |
PaintCorrectionSaturation (19) | -0.290533 |
PaintCorrectionSaturation (5) | 0.322794 |
PaintCorrectionSaturation | 0.000000 |
PaintCorrectionShadows2012 (1) | 1.000000 |
PaintCorrectionShadows2012 (5) | -1.000000 |
PaintCorrectionShadows2012 (9) | -0.348805 |
PaintCorrectionShadows2012 | 0.000000 |
PaintCorrectionSharpness (2) | 0.253952 |
PaintCorrectionSharpness | 0.000000 |
PaintCorrectionTemperature (10) | 0.567923 |
PaintCorrectionTemperature (2) | 0.315074 |
PaintCorrectionTemperature | 0.873989 |
PaintCorrectionTint (8) | 0.619577 |
PaintCorrectionTint (9) | -0.331985 |
PaintCorrectionTint | 0.000000 |
PaintCorrectionWhat | Correction |
ParametricDarks | 0 |
ParametricHighlights | +24 |
ParametricHighlightSplit | 75 |
ParametricLights | +5 |
ParametricMidtoneSplit | 50 |
ParametricShadows | 0 |
ParametricShadowSplit | 25 |
PerspectiveAspect | 0 |
PerspectiveHorizontal | 0 |
PerspectiveRotate | 0.0 |
PerspectiveScale | 100 |
PerspectiveUpright | 0 |
PerspectiveVertical | 0 |
PostCropVignetteAmount | 0 |
ProcessVersion | 6.7 |
ProfileDescription | sRGB IEC61966-2.1 |
RedHue | 0 |
RedSaturation | 0 |
Rights | Bo Valentin |
Saturation (1) | -3 |
Saturation | Normal |
SaturationAdjustmentAqua | 0 |
SaturationAdjustmentBlue | 0 |
SaturationAdjustmentGreen | 0 |
SaturationAdjustmentMagenta | 0 |
SaturationAdjustmentOrange | 0 |
SaturationAdjustmentPurple | 0 |
SaturationAdjustmentRed | 0 |
SaturationAdjustmentYellow | 0 |
ScaleFactor35efl | 1.0 |
SceneCaptureType | Standard |
SceneType | Directly photographed |
SensingMethod | One-chip color area |
SerialNumber | 2076505 |
Shadows2012 | 0 |
ShadowTint | 0 |
SharpenDetail | 25 |
SharpenEdgeMasking | 0 |
SharpenRadius | +1.0 |
Sharpness (1) | 71 |
Sharpness | Normal |
ShutterSpeed | 1/500 |
ShutterSpeedValue | 1/500 |
Software | Adobe Photoshop Lightroom 5.7 (Macintosh) |
SplitToningBalance | 0 |
SplitToningHighlightHue | 0 |
SplitToningHighlightSaturation | 0 |
SplitToningShadowHue | 0 |
SplitToningShadowSaturation | 0 |
Subject | rome roma italy italia summer estate june |
SubjectDistanceRange | Unknown |
Tint | -12 |
ToneCurve | 0, 0, 255, 255 |
ToneCurveBlue | 0, 0, 255, 255 |
ToneCurveGreen | 0, 0, 255, 255 |
ToneCurveName | Linear |
ToneCurveName2012 | Linear |
ToneCurvePV2012 | 0, 0, 255, 255 |
ToneCurvePV2012Blue | 0, 0, 255, 255 |
ToneCurvePV2012Green | 0, 0, 255, 255 |
ToneCurvePV2012Red | 0, 0, 255, 255 |
ToneCurveRed | 0, 0, 255, 255 |
Version | 8.7 |
Vibrance | 0 |
VignetteAmount | 0 |
WhiteBalance (1) | As Shot |
WhiteBalance | Auto |
Whites2012 | +49 |