Felt | Verdi |
AlreadyApplied | True |
Aperture | 8.0 |
ApertureValue | 8.0 |
AutoLateralCA | 1 |
AutoWhiteVersion | 134348800 |
BitsPerSample | 8 |
Blacks2012 | -26 |
BlueHue | 0 |
BlueSaturation | 0 |
BrightnessValue | 2.79 |
CameraProfile | Adobe Standard |
CircleOfConfusion | 0.019 mm |
Clarity2012 | 0 |
ColorComponents | 3 |
ColorNoiseReduction | 25 |
ColorNoiseReductionDetail | 50 |
ColorNoiseReductionSmoothness | 50 |
ColorSpace | sRGB |
ColorTemperature | 5450 |
ColorTransform | YCbCr |
Contrast2012 | +36 |
ConvertToGrayscale | True |
CreateDate | 2015:08:05 08:42:31 |
CreatorTool | Adobe Photoshop Lightroom 5.4 (Macintosh) |
CropAngle | 0 |
CropBottom | 0.993955 |
CropConstrainToWarp | 0 |
CropLeft | 0.006045 |
CropRight | 1 |
CropTop | 0 |
CustomRendered | Normal |
DateCreated (1) | 2015:08:05 |
DateCreated | 2015:08:05 08:42:31 |
DateTimeOriginal | 2015:08:05 08:42:31 |
Exposure2012 | +1.25 |
ExposureCompensation | 0 |
ExposureMode | Manual |
ExposureProgram | Manual |
ExposureTime | 1/30 |
Flash | Off, Did not fire |
FNumber | 8.0 |
FocalLength | 23.0 mm |
FocalLength35efl | 23.0 mm (35 mm equivalent: 35.5 mm) |
Format | image/jpeg |
FOV | 53.8 deg |
GradientBasedCorrActive | true |
GradientBasedCorrAmount | 1.000000 |
GradientBasedCorrBrightness | 0.000000 |
GradientBasedCorrClarity2012 (1) | -0.234835 |
GradientBasedCorrClarity2012 | 0.000000 |
GradientBasedCorrContrast2012 | 0.000000 |
GradientBasedCorrDefringe | 0.000000 |
GradientBasedCorrExposure2012 (1) | -0.214982 |
GradientBasedCorrExposure2012 | -0.174724 |
GradientBasedCorrHighlights2012 (1) | -0.569301 |
GradientBasedCorrHighlights2012 | 0.000000 |
GradientBasedCorrHue | 0.000000 |
GradientBasedCorrLuminanceNoise | 0.000000 |
GradientBasedCorrMaskFullX (1) | 0.494136 |
GradientBasedCorrMaskFullX | 0.404370 |
GradientBasedCorrMaskFullY (1) | 0.002135 |
GradientBasedCorrMaskFullY | 0.026434 |
GradientBasedCorrMaskValue | 1.000000 |
GradientBasedCorrMaskWhat | Mask/Gradient |
GradientBasedCorrMaskZeroX (1) | 0.492337 |
GradientBasedCorrMaskZeroX | 0.403720 |
GradientBasedCorrMaskZeroY (1) | 0.751882 |
GradientBasedCorrMaskZeroY | 0.122915 |
GradientBasedCorrMoire | 0.000000 |
GradientBasedCorrSaturation | 0.000000 |
GradientBasedCorrShadows2012 (1) | 0.274357 |
GradientBasedCorrShadows2012 | 0.000000 |
GradientBasedCorrSharpness | 0.000000 |
GradientBasedCorrTemperature | 0.000000 |
GradientBasedCorrTint | 0.000000 |
GradientBasedCorrWhat | Correction |
GrainAmount | 0 |
GrayMixerAqua | -36 |
GrayMixerBlue | -28 |
GrayMixerGreen | -38 |
GrayMixerMagenta | +6 |
GrayMixerOrange | -16 |
GrayMixerPurple | +19 |
GrayMixerRed | +49 |
GrayMixerYellow | +3 |
GreenHue | 0 |
GreenSaturation | 0 |
HasCrop | True |
HasExtendedXMP | EB01CC594926B0B1B7DCF0E2B58C072F |
HasSettings | True |
Highlights2012 | -7 |
HyperfocalDistance | 3.39 m |
ImageHeight | 3244 |
ImageSize | 4866x3244 |
ImageWidth | 4866 |
ISO | 640 |
LensManualDistortionAmount | 0 |
LensProfileChromaticAberrationScale | 100 |
LensProfileDistortionScale | 100 |
LensProfileEnable | 1 |
LensProfileFilename | Fujifilm X100S.lcp |
LensProfileName | Adobe (Fujifilm X100S) |
LensProfileSetup | LensDefaults |
LensProfileVignettingScale | 100 |
LightSource | Unknown |
LightValue | 8.2 |
LuminanceSmoothing | 0 |
Make | FUJIFILM |
MaxApertureValue | 2.0 |
Megapixels | 15.8 |
MeteringMode | Multi-segment |
Model | X100S |
ModifyDate (1) | 2015:12:07 21:34:42+01:00 |
ModifyDate | 2015:12:07 21:34:42 |
PaintCorrectionActive | true |
PaintCorrectionAmount | 1.000000 |
PaintCorrectionBrightness | 0.000000 |
PaintCorrectionClarity2012 (2) | 0.242555 |
PaintCorrectionClarity2012 (4) | 0.383364 |
PaintCorrectionClarity2012 | 0.000000 |
PaintCorrectionContrast2012 (4) | 0.320772 |
PaintCorrectionContrast2012 (7) | 0.272702 |
PaintCorrectionContrast2012 (9) | 0.163603 |
PaintCorrectionContrast2012 | 0.000000 |
PaintCorrectionDefringe | 0.000000 |
PaintCorrectionExposure2012 (1) | -0.022243 |
PaintCorrectionExposure2012 (2) | 0.126287 |
PaintCorrectionExposure2012 (3) | -0.094761 |
PaintCorrectionExposure2012 (7) | -0.151287 |
PaintCorrectionExposure2012 (9) | -0.142463 |
PaintCorrectionExposure2012 | 0.000000 |
PaintCorrectionHighlights2012 (1) | -1.000000 |
PaintCorrectionHighlights2012 (2) | 0.440533 |
PaintCorrectionHighlights2012 (5) | 0.330790 |
PaintCorrectionHighlights2012 (8) | 0.467371 |
PaintCorrectionHighlights2012 (9) | -0.005607 |
PaintCorrectionHighlights2012 | 0.000000 |
PaintCorrectionHue | 0.000000 |
PaintCorrectionLuminanceNoise | 0.000000 |
PaintCorrectionMaskCenterWeight (1) | 0.000000 |
PaintCorrectionMaskCenterWeight (101) | 0.230476 |
PaintCorrectionMaskCenterWeight (27) | 0.002768 |
PaintCorrectionMaskCenterWeight | 0.092861 |
PaintCorrectionMaskFlow (1) | 0.741654 |
PaintCorrectionMaskFlow (30) | 0.348801 |
PaintCorrectionMaskFlow (41) | 0.775170 |
PaintCorrectionMaskFlow (64) | 1.000000 |
PaintCorrectionMaskFlow (7) | 0.980353 |
PaintCorrectionMaskFlow (76) | 0.689469 |
PaintCorrectionMaskFlow (9) | 0.423967 |
PaintCorrectionMaskFlow | 0.733031 |
PaintCorrectionMaskRadius (1) | 0.156912 |
PaintCorrectionMaskRadius (10) | 0.072136 |
PaintCorrectionMaskRadius (100) | 0.014852 |
PaintCorrectionMaskRadius (101) | 0.014845 |
PaintCorrectionMaskRadius (102) | 0.014859 |
PaintCorrectionMaskRadius (105) | 0.014837 |
PaintCorrectionMaskRadius (106) | 0.053420 |
PaintCorrectionMaskRadius (107) | 0.036421 |
PaintCorrectionMaskRadius (108) | 0.041746 |
PaintCorrectionMaskRadius (109) | 0.041734 |
PaintCorrectionMaskRadius (11) | 0.073403 |
PaintCorrectionMaskRadius (110) | 0.034623 |
PaintCorrectionMaskRadius (111) | 0.034582 |
PaintCorrectionMaskRadius (112) | 0.019712 |
PaintCorrectionMaskRadius (113) | 0.019697 |
PaintCorrectionMaskRadius (114) | 0.062889 |
PaintCorrectionMaskRadius (115) | 0.062687 |
PaintCorrectionMaskRadius (116) | 0.015797 |
PaintCorrectionMaskRadius (117) | 0.015854 |
PaintCorrectionMaskRadius (118) | 0.020658 |
PaintCorrectionMaskRadius (12) | 0.072777 |
PaintCorrectionMaskRadius (13) | 0.073192 |
PaintCorrectionMaskRadius (14) | 0.031021 |
PaintCorrectionMaskRadius (15) | 0.031081 |
PaintCorrectionMaskRadius (16) | 0.031051 |
PaintCorrectionMaskRadius (17) | 0.030454 |
PaintCorrectionMaskRadius (18) | 0.030813 |
PaintCorrectionMaskRadius (19) | 0.030872 |
PaintCorrectionMaskRadius (2) | 0.026149 |
PaintCorrectionMaskRadius (20) | 0.030767 |
PaintCorrectionMaskRadius (21) | 0.039044 |
PaintCorrectionMaskRadius (22) | 0.038924 |
PaintCorrectionMaskRadius (23) | 0.038710 |
PaintCorrectionMaskRadius (24) | 0.028781 |
PaintCorrectionMaskRadius (25) | 0.029077 |
PaintCorrectionMaskRadius (26) | 0.074305 |
PaintCorrectionMaskRadius (27) | 0.075352 |
PaintCorrectionMaskRadius (28) | 0.075226 |
PaintCorrectionMaskRadius (29) | 0.074837 |
PaintCorrectionMaskRadius (3) | 0.123408 |
PaintCorrectionMaskRadius (30) | 0.075840 |
PaintCorrectionMaskRadius (31) | 0.068587 |
PaintCorrectionMaskRadius (32) | 0.067672 |
PaintCorrectionMaskRadius (33) | 0.068205 |
PaintCorrectionMaskRadius (34) | 0.053603 |
PaintCorrectionMaskRadius (35) | 0.053021 |
PaintCorrectionMaskRadius (36) | 0.080600 |
PaintCorrectionMaskRadius (37) | 0.031080 |
PaintCorrectionMaskRadius (38) | 0.030781 |
PaintCorrectionMaskRadius (39) | 0.031090 |
PaintCorrectionMaskRadius (4) | 0.123435 |
PaintCorrectionMaskRadius (40) | 0.031175 |
PaintCorrectionMaskRadius (41) | 0.080616 |
PaintCorrectionMaskRadius (42) | 0.080919 |
PaintCorrectionMaskRadius (43) | 0.081041 |
PaintCorrectionMaskRadius (44) | 0.036280 |
PaintCorrectionMaskRadius (45) | 0.036168 |
PaintCorrectionMaskRadius (46) | 0.036418 |
PaintCorrectionMaskRadius (47) | 0.036290 |
PaintCorrectionMaskRadius (48) | 0.015993 |
PaintCorrectionMaskRadius (49) | 0.015926 |
PaintCorrectionMaskRadius (5) | 0.124975 |
PaintCorrectionMaskRadius (50) | 0.015747 |
PaintCorrectionMaskRadius (51) | 0.015760 |
PaintCorrectionMaskRadius (52) | 0.015076 |
PaintCorrectionMaskRadius (53) | 0.018662 |
PaintCorrectionMaskRadius (54) | 0.009396 |
PaintCorrectionMaskRadius (55) | 0.007989 |
PaintCorrectionMaskRadius (56) | 0.008002 |
PaintCorrectionMaskRadius (57) | 0.007966 |
PaintCorrectionMaskRadius (58) | 0.007991 |
PaintCorrectionMaskRadius (59) | 0.008020 |
PaintCorrectionMaskRadius (6) | 0.125017 |
PaintCorrectionMaskRadius (60) | 0.009400 |
PaintCorrectionMaskRadius (61) | 0.013025 |
PaintCorrectionMaskRadius (62) | 0.013020 |
PaintCorrectionMaskRadius (63) | 0.018794 |
PaintCorrectionMaskRadius (64) | 0.018760 |
PaintCorrectionMaskRadius (65) | 0.018583 |
PaintCorrectionMaskRadius (66) | 0.018721 |
PaintCorrectionMaskRadius (67) | 0.015105 |
PaintCorrectionMaskRadius (68) | 0.015990 |
PaintCorrectionMaskRadius (69) | 0.015135 |
PaintCorrectionMaskRadius (7) | 0.123916 |
PaintCorrectionMaskRadius (70) | 0.016031 |
PaintCorrectionMaskRadius (72) | 0.016023 |
PaintCorrectionMaskRadius (73) | 0.016040 |
PaintCorrectionMaskRadius (74) | 0.016038 |
PaintCorrectionMaskRadius (75) | 0.016003 |
PaintCorrectionMaskRadius (76) | 0.015959 |
PaintCorrectionMaskRadius (77) | 0.015873 |
PaintCorrectionMaskRadius (78) | 0.015991 |
PaintCorrectionMaskRadius (79) | 0.146107 |
PaintCorrectionMaskRadius (8) | 0.095378 |
PaintCorrectionMaskRadius (80) | 0.147624 |
PaintCorrectionMaskRadius (81) | 0.066095 |
PaintCorrectionMaskRadius (82) | 0.065191 |
PaintCorrectionMaskRadius (83) | 0.066345 |
PaintCorrectionMaskRadius (84) | 0.053400 |
PaintCorrectionMaskRadius (85) | 0.030928 |
PaintCorrectionMaskRadius (86) | 0.030936 |
PaintCorrectionMaskRadius (87) | 0.053432 |
PaintCorrectionMaskRadius (88) | 0.054114 |
PaintCorrectionMaskRadius (89) | 0.053458 |
PaintCorrectionMaskRadius (9) | 0.094975 |
PaintCorrectionMaskRadius (90) | 0.054507 |
PaintCorrectionMaskRadius (91) | 0.053474 |
PaintCorrectionMaskRadius (92) | 0.015114 |
PaintCorrectionMaskRadius (93) | 0.015133 |
PaintCorrectionMaskRadius (94) | 0.014892 |
PaintCorrectionMaskRadius (95) | 0.014838 |
PaintCorrectionMaskRadius (96) | 0.015102 |
PaintCorrectionMaskRadius (97) | 0.015155 |
PaintCorrectionMaskRadius (99) | 0.014851 |
PaintCorrectionMaskRadius | 0.016033 |
PaintCorrectionMaskValue (54) | 0.000000 |
PaintCorrectionMaskValue | 1.000000 |
PaintCorrectionMaskWhat | Mask/Paint |
PaintCorrectionMoire | 0.000000 |
PaintCorrectionSaturation | 0.000000 |
PaintCorrectionShadows2012 (10) | -0.256434 |
PaintCorrectionShadows2012 (4) | -0.727665 |
PaintCorrectionShadows2012 (7) | 0.000000 |
PaintCorrectionShadows2012 (8) | -0.207261 |
PaintCorrectionShadows2012 | -0.420129 |
PaintCorrectionSharpness (2) | 0.147886 |
PaintCorrectionSharpness | 0.000000 |
PaintCorrectionTemperature | 0.000000 |
PaintCorrectionTint | 0.000000 |
PaintCorrectionWhat | Correction |
ParametricDarks | 0 |
ParametricHighlights | 0 |
ParametricHighlightSplit | 75 |
ParametricLights | 0 |
ParametricMidtoneSplit | 50 |
ParametricShadows | 0 |
ParametricShadowSplit | 25 |
PerspectiveAspect | 0 |
PerspectiveHorizontal | 0 |
PerspectiveRotate | 0.0 |
PerspectiveScale | 100 |
PerspectiveUpright | 0 |
PerspectiveVertical | 0 |
PostCropVignetteAmount | -25 |
PostCropVignetteFeather | 62 |
PostCropVignetteHighlightContrast | 14 |
PostCropVignetteMidpoint | 50 |
PostCropVignetteRoundness | 0 |
PostCropVignetteStyle | 2 |
ProcessVersion | 6.7 |
ProfileDescription | sRGB IEC61966-2.1 |
RedHue | 0 |
RedSaturation | 0 |
ScaleFactor35efl | 1.5 |
SceneCaptureType | Standard |
SceneType | Directly photographed |
SensingMethod | One-chip color area |
SensitivityType | Standard Output Sensitivity |
Shadows2012 | +41 |
ShadowTint | 0 |
SharpenDetail | 25 |
SharpenEdgeMasking | 42 |
SharpenRadius | +1.0 |
Sharpness (1) | 25 |
Sharpness | Normal |
ShutterSpeed | 1/30 |
ShutterSpeedValue | 1/30 |
Software | Adobe Photoshop Lightroom 5.4 (Macintosh) |
SplitToningBalance | 0 |
SplitToningHighlightHue | 215 |
SplitToningHighlightSaturation | 0 |
SplitToningShadowHue | 52 |
SplitToningShadowSaturation | 0 |
SubjectDistanceRange | Unknown |
Tint | +8 |
ToneCurve | 0, 0, 255, 255 |
ToneCurveBlue | 0, 0, 255, 255 |
ToneCurveGreen | 0, 0, 255, 255 |
ToneCurveName | Linear |
ToneCurveName2012 | Custom |
ToneCurvePV2012 | 0, 0, 63, 37, 127, 127, 191, 220, 255, 255 |
ToneCurvePV2012Blue | 0, 0, 255, 255 |
ToneCurvePV2012Green | 0, 0, 255, 255 |
ToneCurvePV2012Red | 0, 0, 255, 255 |
ToneCurveRed | 0, 0, 255, 255 |
Version | 8.4 |
VignetteAmount | 0 |
WhiteBalance (1) | As Shot |
WhiteBalance | Auto |
Whites2012 | +54 |