Felt | Verdi |
AlreadyApplied | True |
Aperture | 6.3 |
ApertureValue | 6.3 |
ApproximateFocusDistance | 4.39 |
Artist | OYVIND HALLGREN |
AutoLateralCA | 0 |
BitsPerSample | 8 |
Blacks2012 | -15 |
BlueHue | 0 |
BlueSaturation | 0 |
By-line | OYVIND HALLGREN |
CameraProfile | Adobe Standard |
CircleOfConfusion | 0.034 mm |
Clarity2012 | 0 |
ColorComponents | 3 |
ColorNoiseReduction | 25 |
ColorNoiseReductionDetail | 50 |
ColorNoiseReductionSmoothness | 50 |
ColorSpace | sRGB |
ColorTemperature | 4015 |
ColorTransform | YCbCr |
Contrast2012 | +21 |
ConvertToGrayscale | False |
CreateDate (1) | 2020:02:03 08:47:41.131 |
CreateDate | 2020:02:03 08:47:41 |
Creator | OYVIND HALLGREN |
CreatorTool | Adobe Photoshop Lightroom Classic 9.1 (Macintosh) |
CropAngle | 0 |
CropBottom | 0.657266 |
CropConstrainToWarp | 0 |
CropLeft | 0.227475 |
CropRight | 1 |
CropTop | 0.005449 |
CustomRendered | Normal |
DateCreated (1) | 2020:02:03 |
DateCreated | 2020:02:03 08:47:41.13 |
DateTimeOriginal | 2020:02:03 08:47:41 |
DefringeGreenAmount | 0 |
DefringeGreenHueHi | 60 |
DefringeGreenHueLo | 40 |
DefringePurpleAmount | 0 |
DefringePurpleHueHi | 70 |
DefringePurpleHueLo | 30 |
Dehaze | 0 |
DOF | inf (2.00 m - inf) |
Exposure2012 | +1.80 |
ExposureCompensation | 0 |
ExposureMode | Manual |
ExposureProgram | Manual |
ExposureTime | 1/20 |
Firmware | 1.0.3 |
Flash | Off, Did not fire |
FlashCompensation | 0 |
FNumber | 6.3 |
FocalLength | 28.0 mm |
FocalLength35efl | 28.0 mm (35 mm equivalent: 24.6 mm) |
Format | image/jpeg |
FOV | 72.3 deg |
GrainAmount | 0 |
GreenHue | 0 |
GreenSaturation | 0 |
HasCrop | True |
HasExtendedXMP | F80336C753835F41DC1477AE0849582D |
HasSettings | True |
Highlights2012 | -90 |
HueAdjustmentAqua | 0 |
HueAdjustmentBlue | 0 |
HueAdjustmentGreen | 0 |
HueAdjustmentMagenta | 0 |
HueAdjustmentOrange | 0 |
HueAdjustmentPurple | 0 |
HueAdjustmentRed | 0 |
HueAdjustmentYellow | 0 |
HyperfocalDistance | 3.64 m |
ImageHeight | 4500 |
ImageNumber | 0 |
ImageSize | 8000x4500 |
ImageWidth | 8000 |
IsMergedHDR | True |
ISO | 400 |
Lens | EF16-35mm f/2.8L III USM |
LensID (1) | 751 |
LensID | Canon EF 16-35mm f/2.8L III USM |
LensInfo | 16-35mm f/? |
LensManualDistortionAmount | 0 |
LensModel | EF16-35mm f/2.8L III USM |
LensProfileEnable | 0 |
LensProfileSetup | LensDefaults |
LensSerialNumber | 4610008130 |
LightValue | 7.6 |
LookAmount | 1.000000 |
LookGroup | Profiles |
LookName | Adobe Color |
LookParametersCameraProfile | Adobe Standard |
LookParametersConvertToGrayscale | False |
LookParametersLookTable | E1095149FDB39D7A057BAB208837E2E1 |
LookParametersProcessVersion | 11.0 |
LookParametersToneCurvePV2012 | 0, 0, 22, 16, 40, 35, 127, 127, 224, 230, 240, 246, 255, 255 |
LookParametersToneCurvePV2012Blue | 0, 0, 255, 255 |
LookParametersToneCurvePV2012Green | 0, 0, 255, 255 |
LookParametersToneCurvePV2012Red | 0, 0, 255, 255 |
LookParametersVersion | 12.1 |
LookSupportsAmount | false |
LookSupportsMonochrome | false |
LookSupportsOutputReferred | false |
LuminanceAdjustmentAqua | 0 |
LuminanceAdjustmentBlue | 0 |
LuminanceAdjustmentGreen | 0 |
LuminanceAdjustmentMagenta | 0 |
LuminanceAdjustmentOrange | -16 |
LuminanceAdjustmentPurple | 0 |
LuminanceAdjustmentRed | 0 |
LuminanceAdjustmentYellow | -11 |
LuminanceNoiseReductionContrast | 0 |
LuminanceNoiseReductionDetail | 50 |
LuminanceSmoothing | 13 |
Make | Canon |
MaxApertureValue | 2.8 |
Megapixels | 36.0 |
MeteringMode | Multi-segment |
Model | Canon EOS 5D Mark IV |
ModifyDate (1) | 2020:02:03 21:15:35+01:00 |
ModifyDate | 2020:02:03 21:15:35 |
OverrideLookVignette | False |
PaintCorrectionActive | true |
PaintCorrectionAmount | 1.000000 |
PaintCorrectionBrightness | 0.000000 |
PaintCorrectionClarity2012 (1) | 0.278525 |
PaintCorrectionClarity2012 | 0.000000 |
PaintCorrectionContrast2012 (1) | 0.582031 |
PaintCorrectionContrast2012 (2) | 0.468932 |
PaintCorrectionContrast2012 | 0.000000 |
PaintCorrectionCorrectionRangeMaskColorAmount | 0.500000 |
PaintCorrectionCorrectionRangeMaskDepthFeather | 0.500000 |
PaintCorrectionCorrectionRangeMaskDepthMax | 1.000000 |
PaintCorrectionCorrectionRangeMaskDepthMin | 0.000000 |
PaintCorrectionCorrectionRangeMaskLumFeather | 0.500000 |
PaintCorrectionCorrectionRangeMaskLumMax | 1.000000 |
PaintCorrectionCorrectionRangeMaskLumMin | 0.000000 |
PaintCorrectionCorrectionRangeMaskType | 0 |
PaintCorrectionCorrectionRangeMaskVersion | +2 |
PaintCorrectionDefringe | 0.000000 |
PaintCorrectionExposure2012 (1) | 0.223656 |
PaintCorrectionExposure2012 (2) | 0.000000 |
PaintCorrectionExposure2012 | 0.450000 |
PaintCorrectionHighlights2012 (1) | -0.616552 |
PaintCorrectionHighlights2012 | 0.000000 |
PaintCorrectionHue | 240.000000 |
PaintCorrectionLocalBlacks2012 (2) | 0.000000 |
PaintCorrectionLocalBlacks2012 | -0.232013 |
PaintCorrectionLocalDehaze (2) | 0.000000 |
PaintCorrectionLocalDehaze | 0.090843 |
PaintCorrectionLocalTexture (2) | 0.000000 |
PaintCorrectionLocalTexture | 0.692224 |
PaintCorrectionLocalWhites2012 (1) | 0.000000 |
PaintCorrectionLocalWhites2012 (2) | 0.301508 |
PaintCorrectionLocalWhites2012 | 0.227562 |
PaintCorrectionLuminanceNoise | 0.000000 |
PaintCorrectionMaskCenterWeight (25) | 0.000000 |
PaintCorrectionMaskCenterWeight | 0.072408 |
PaintCorrectionMaskFlow (1) | 0.482258 |
PaintCorrectionMaskFlow (10) | 0.703567 |
PaintCorrectionMaskFlow (11) | 0.714599 |
PaintCorrectionMaskFlow (12) | 0.783290 |
PaintCorrectionMaskFlow (13) | 0.132226 |
PaintCorrectionMaskFlow (14) | 0.155503 |
PaintCorrectionMaskFlow (15) | 0.026133 |
PaintCorrectionMaskFlow (16) | 0.224072 |
PaintCorrectionMaskFlow (17) | 0.676465 |
PaintCorrectionMaskFlow (18) | 0.627454 |
PaintCorrectionMaskFlow (19) | 0.720657 |
PaintCorrectionMaskFlow (20) | 0.629670 |
PaintCorrectionMaskFlow (21) | 0.919188 |
PaintCorrectionMaskFlow (22) | 0.854909 |
PaintCorrectionMaskFlow (23) | 0.912966 |
PaintCorrectionMaskFlow (24) | 0.887611 |
PaintCorrectionMaskFlow (25) | 0.859936 |
PaintCorrectionMaskFlow (26) | 0.803944 |
PaintCorrectionMaskFlow (27) | 0.623186 |
PaintCorrectionMaskFlow (28) | 0.889110 |
PaintCorrectionMaskFlow (29) | 0.813434 |
PaintCorrectionMaskFlow (3) | 0.653079 |
PaintCorrectionMaskFlow (30) | 0.021471 |
PaintCorrectionMaskFlow (31) | 0.759117 |
PaintCorrectionMaskFlow (32) | 0.440792 |
PaintCorrectionMaskFlow (33) | 0.436174 |
PaintCorrectionMaskFlow (34) | 0.669479 |
PaintCorrectionMaskFlow (35) | 0.660554 |
PaintCorrectionMaskFlow (36) | 0.430079 |
PaintCorrectionMaskFlow (37) | 0.612426 |
PaintCorrectionMaskFlow (38) | 0.609794 |
PaintCorrectionMaskFlow (39) | 0.863592 |
PaintCorrectionMaskFlow (4) | 0.644430 |
PaintCorrectionMaskFlow (40) | 0.611113 |
PaintCorrectionMaskFlow (41) | 0.514333 |
PaintCorrectionMaskFlow (42) | 0.413104 |
PaintCorrectionMaskFlow (43) | 0.663566 |
PaintCorrectionMaskFlow (5) | 0.526944 |
PaintCorrectionMaskFlow (7) | 0.591465 |
PaintCorrectionMaskFlow (8) | 0.631380 |
PaintCorrectionMaskFlow (9) | 0.669270 |
PaintCorrectionMaskFlow | 0.643504 |
PaintCorrectionMaskRadius (11) | 0.057491 |
PaintCorrectionMaskRadius (12) | 0.053041 |
PaintCorrectionMaskRadius (15) | 0.027811 |
PaintCorrectionMaskRadius (2) | 0.008713 |
PaintCorrectionMaskRadius (20) | 0.023851 |
PaintCorrectionMaskRadius (21) | 0.024144 |
PaintCorrectionMaskRadius (24) | 0.010119 |
PaintCorrectionMaskRadius (30) | 0.005194 |
PaintCorrectionMaskRadius (31) | 0.006282 |
PaintCorrectionMaskRadius (39) | 0.002094 |
PaintCorrectionMaskRadius (8) | 0.012393 |
PaintCorrectionMaskRadius (9) | 0.040111 |
PaintCorrectionMaskRadius | 0.001732 |
PaintCorrectionMaskValue (25) | 0.000000 |
PaintCorrectionMaskValue | 0.716353 |
PaintCorrectionMaskWhat | Mask/Paint |
PaintCorrectionMoire | 0.000000 |
PaintCorrectionSaturation | 0.000000 |
PaintCorrectionShadows2012 | 0.000000 |
PaintCorrectionSharpness | 0.000000 |
PaintCorrectionTemperature | 0.000000 |
PaintCorrectionTint | 0.000000 |
PaintCorrectionWhat | Correction |
ParametricDarks | 0 |
ParametricHighlights | 0 |
ParametricHighlightSplit | 75 |
ParametricLights | 0 |
ParametricMidtoneSplit | 50 |
ParametricShadows | 0 |
ParametricShadowSplit | 25 |
PerspectiveAspect | 0 |
PerspectiveHorizontal | 0 |
PerspectiveRotate | 0.0 |
PerspectiveScale | 100 |
PerspectiveUpright | 0 |
PerspectiveVertical | 0 |
PerspectiveX | 0.00 |
PerspectiveY | 0.00 |
PostCropVignetteAmount | 0 |
PreservedFileName | 2F0A2790.CR2 |
ProcessVersion | 11.0 |
ProfileDescription | sRGB IEC61966-2.1 |
RawFileName | |
RecommendedExposureIndex | 400 |
RedHue | 0 |
RedSaturation | 0 |
Saturation | -1 |
SaturationAdjustmentAqua | 0 |
SaturationAdjustmentBlue | 0 |
SaturationAdjustmentGreen | 0 |
SaturationAdjustmentMagenta | 0 |
SaturationAdjustmentOrange | +25 |
SaturationAdjustmentPurple | 0 |
SaturationAdjustmentRed | 0 |
SaturationAdjustmentYellow | +13 |
ScaleFactor35efl | 0.9 |
SceneCaptureType | Standard |
SensitivityType | Recommended Exposure Index |
SerialNumber | 053023000870 |
Shadows2012 | +73 |
ShadowTint | 0 |
SharpenDetail | 25 |
SharpenEdgeMasking | 0 |
SharpenRadius | +1.0 |
Sharpness | 40 |
ShutterSpeed | 1/20 |
ShutterSpeedValue | 1/20 |
Software | Adobe Photoshop Lightroom Classic 9.1 (Macintosh) |
SplitToningBalance | 0 |
SplitToningHighlightHue | 0 |
SplitToningHighlightSaturation | 0 |
SplitToningShadowHue | 0 |
SplitToningShadowSaturation | 0 |
Texture | 0 |
Tint | -18 |
ToneCurve | 0, 0, 255, 255 |
ToneCurveBlue | 0, 0, 255, 255 |
ToneCurveGreen | 0, 0, 255, 255 |
ToneCurveName | Linear |
ToneCurveName2012 | Linear |
ToneCurvePV2012 | 0, 0, 255, 255 |
ToneCurvePV2012Blue | 0, 0, 255, 255 |
ToneCurvePV2012Green | 0, 0, 255, 255 |
ToneCurvePV2012Red | 0, 0, 255, 255 |
ToneCurveRed | 0, 0, 255, 255 |
ToneMapStrength | 0 |
Version | 12.1 |
Vibrance | +9 |
VignetteAmount | 0 |
WhiteBalance (1) | Custom |
WhiteBalance | Auto |
Whites2012 | -1 |