Felt | Verdi |
AlreadyApplied | True |
Aperture | 5.6 |
ApertureValue | 5.6 |
ApproximateFocusDistance | 1.18 |
Artist | OYVIND HALLGREN |
AutoLateralCA | 0 |
BitsPerSample | 8 |
Blacks2012 | -23 |
BlueHue | 0 |
BlueSaturation | 0 |
By-line | OYVIND HALLGREN |
CameraProfile | Adobe Standard |
CircGradBasedCorrActive | true |
CircGradBasedCorrAmount | 1.000000 |
CircGradBasedCorrBrightness | 0.000000 |
CircGradBasedCorrClarity2012 | 0.000000 |
CircGradBasedCorrContrast2012 | 0.000000 |
CircGradBasedCorrCorrectionRangeMaskColorAmount | 0.500000 |
CircGradBasedCorrCorrectionRangeMaskDepthFeather | 0.500000 |
CircGradBasedCorrCorrectionRangeMaskDepthMax | 1.000000 |
CircGradBasedCorrCorrectionRangeMaskDepthMin | 0.000000 |
CircGradBasedCorrCorrectionRangeMaskLumFeather | 0.500000 |
CircGradBasedCorrCorrectionRangeMaskLumMax | 1.000000 |
CircGradBasedCorrCorrectionRangeMaskLumMin | 0.000000 |
CircGradBasedCorrCorrectionRangeMaskType | 0 |
CircGradBasedCorrCorrectionRangeMaskVersion | +2 |
CircGradBasedCorrDefringe | 0.000000 |
CircGradBasedCorrExposure2012 (1) | 0.138128 |
CircGradBasedCorrExposure2012 (2) | 0.155445 |
CircGradBasedCorrExposure2012 (4) | -0.177513 |
CircGradBasedCorrExposure2012 | 0.090045 |
CircGradBasedCorrHighlights2012 | 0.000000 |
CircGradBasedCorrHue | 240.000000 |
CircGradBasedCorrLocalBlacks2012 | 0.000000 |
CircGradBasedCorrLocalDehaze | 0.000000 |
CircGradBasedCorrLocalTexture (4) | 0.000000 |
CircGradBasedCorrLocalTexture | 0.211582 |
CircGradBasedCorrLocalWhites2012 | 0.000000 |
CircGradBasedCorrLuminanceNoise | 0.000000 |
CircGradBasedCorrMaskAngle (1) | 0.000000 |
CircGradBasedCorrMaskAngle (2) | 12.303300 |
CircGradBasedCorrMaskAngle (3) | 14.061400 |
CircGradBasedCorrMaskAngle | -2.413520 |
CircGradBasedCorrMaskBottom (1) | 1.061690 |
CircGradBasedCorrMaskBottom (2) | 0.937959 |
CircGradBasedCorrMaskBottom (3) | 1.092970 |
CircGradBasedCorrMaskBottom (4) | 0.352782 |
CircGradBasedCorrMaskBottom | 0.977959 |
CircGradBasedCorrMaskFeather | +55 |
CircGradBasedCorrMaskFlipped | true |
CircGradBasedCorrMaskLeft (1) | 0.154414 |
CircGradBasedCorrMaskLeft (2) | -0.027445 |
CircGradBasedCorrMaskLeft (3) | 0.611961 |
CircGradBasedCorrMaskLeft (4) | 0.295163 |
CircGradBasedCorrMaskLeft | -0.173687 |
CircGradBasedCorrMaskMidpoint | +50 |
CircGradBasedCorrMaskRight (1) | 0.837478 |
CircGradBasedCorrMaskRight (2) | 0.434524 |
CircGradBasedCorrMaskRight (3) | 1.040000 |
CircGradBasedCorrMaskRight (4) | 0.682535 |
CircGradBasedCorrMaskRight | 1.132750 |
CircGradBasedCorrMaskRoundness | 0 |
CircGradBasedCorrMaskTop (1) | 0.518760 |
CircGradBasedCorrMaskTop (2) | 0.348689 |
CircGradBasedCorrMaskTop (3) | 0.545108 |
CircGradBasedCorrMaskTop (4) | 0.083534 |
CircGradBasedCorrMaskTop | 0.512512 |
CircGradBasedCorrMaskValue | 1.000000 |
CircGradBasedCorrMaskVersion | +2 |
CircGradBasedCorrMaskWhat | Mask/CircularGradient |
CircGradBasedCorrMoire | 0.000000 |
CircGradBasedCorrSaturation | 0.000000 |
CircGradBasedCorrShadows2012 | 0.000000 |
CircGradBasedCorrSharpness | 0.000000 |
CircGradBasedCorrTemperature | 0.000000 |
CircGradBasedCorrTint | 0.000000 |
CircGradBasedCorrWhat | Correction |
CircleOfConfusion | 0.036 mm |
Clarity2012 | 0 |
ColorComponents | 3 |
ColorNoiseReduction | 25 |
ColorNoiseReductionDetail | 50 |
ColorNoiseReductionSmoothness | 50 |
ColorSpace | sRGB |
ColorTemperature | 5700 |
ColorTransform | YCbCr |
Contrast2012 | +6 |
ConvertToGrayscale | False |
CreateDate (1) | 2020:06:22 11:16:13.00 |
CreateDate | 2020:06:22 11:16:13 |
Creator | OYVIND HALLGREN |
CreatorTool | Adobe Photoshop Lightroom Classic 9.2.1 (Macintosh) |
CropAngle | -2.41352 |
CropBottom | 0.940536 |
CropConstrainToWarp | 0 |
CropLeft | 0.016517 |
CropRight | 0.983483 |
CropTop | 0.059464 |
CustomRendered | Normal |
DateCreated (1) | 2020:06:22 |
DateCreated | 2020:06:22 11:16:13.00 |
DateTimeOriginal | 2020:06:22 11:16:13 |
DefringeGreenAmount | 0 |
DefringeGreenHueHi | 60 |
DefringeGreenHueLo | 40 |
DefringePurpleAmount | 0 |
DefringePurpleHueHi | 70 |
DefringePurpleHueLo | 30 |
Dehaze | 0 |
DOF | 12.61 m (0.62 - 13.22 m) |
Exposure2012 | -0.20 |
ExposureCompensation | 0 |
ExposureMode | Auto |
ExposureProgram | Aperture-priority AE |
ExposureTime | 1/400 |
Firmware | 1.0.3 |
Flash | Off, Did not fire |
FlashCompensation | 0 |
FNumber | 5.6 |
FocalLength | 16.0 mm |
FocalLength35efl | 16.0 mm (35 mm equivalent: 13.4 mm) |
Format | image/jpeg |
FOV | 106.5 deg |
GradientBasedCorrActive | true |
GradientBasedCorrAmount | 1.000000 |
GradientBasedCorrBrightness | 0.000000 |
GradientBasedCorrClarity2012 | 0.000000 |
GradientBasedCorrContrast2012 (1) | 0.247584 |
GradientBasedCorrContrast2012 | 0.000000 |
GradientBasedCorrCorrectionRangeMaskColorAmount | 0.500000 |
GradientBasedCorrCorrectionRangeMaskDepthFeather | 0.500000 |
GradientBasedCorrCorrectionRangeMaskDepthMax | 1.000000 |
GradientBasedCorrCorrectionRangeMaskDepthMin | 0.000000 |
GradientBasedCorrCorrectionRangeMaskLumFeather | 0.500000 |
GradientBasedCorrCorrectionRangeMaskLumMax | 1.000000 |
GradientBasedCorrCorrectionRangeMaskLumMin | 0.000000 |
GradientBasedCorrCorrectionRangeMaskType | 0 |
GradientBasedCorrCorrectionRangeMaskVersion | +2 |
GradientBasedCorrDefringe | 0.000000 |
GradientBasedCorrExposure2012 (1) | -0.087870 |
GradientBasedCorrExposure2012 | -0.045828 |
GradientBasedCorrHighlights2012 | 0.000000 |
GradientBasedCorrHue | 240.000000 |
GradientBasedCorrLocalBlacks2012 | 0.000000 |
GradientBasedCorrLocalDehaze | 0.000000 |
GradientBasedCorrLocalTexture (1) | 0.000000 |
GradientBasedCorrLocalTexture | 0.119201 |
GradientBasedCorrLocalWhites2012 | 0.000000 |
GradientBasedCorrLuminanceNoise | 0.000000 |
GradientBasedCorrMaskFullX (1) | 0.453948 |
GradientBasedCorrMaskFullX | 0.486494 |
GradientBasedCorrMaskFullY (1) | 0.597399 |
GradientBasedCorrMaskFullY | 0.407161 |
GradientBasedCorrMaskValue | 1.000000 |
GradientBasedCorrMaskWhat | Mask/Gradient |
GradientBasedCorrMaskZeroX (1) | 0.461856 |
GradientBasedCorrMaskZeroX | 0.485206 |
GradientBasedCorrMaskZeroY (1) | 0.405438 |
GradientBasedCorrMaskZeroY | 0.589435 |
GradientBasedCorrMoire | 0.000000 |
GradientBasedCorrSaturation (1) | 0.092784 |
GradientBasedCorrSaturation | 0.000000 |
GradientBasedCorrShadows2012 (1) | 0.235744 |
GradientBasedCorrShadows2012 | 0.000000 |
GradientBasedCorrSharpness | 0.000000 |
GradientBasedCorrTemperature | 0.000000 |
GradientBasedCorrTint | 0.000000 |
GradientBasedCorrWhat | Correction |
GrainAmount | 0 |
GreenHue | 0 |
GreenSaturation | 0 |
HasCrop | True |
HasExtendedXMP | BE8A8E24F58DD022397564D1AA689BEB |
HasSettings | True |
Highlights2012 | -80 |
HueAdjustmentAqua | 0 |
HueAdjustmentBlue | 0 |
HueAdjustmentGreen | 0 |
HueAdjustmentMagenta | 0 |
HueAdjustmentOrange | 0 |
HueAdjustmentPurple | 0 |
HueAdjustmentRed | 0 |
HueAdjustmentYellow | 0 |
HyperfocalDistance | 1.28 m |
ImageHeight | 5333 |
ImageNumber | 0 |
ImageSize | 8000x5333 |
ImageWidth | 8000 |
ISO | 200 |
Lens | EF16-35mm f/2.8L III USM |
LensID (1) | 751 |
LensID | Canon EF 16-35mm f/2.8L III USM |
LensInfo | 16-35mm f/? |
LensManualDistortionAmount | 0 |
LensModel | EF16-35mm f/2.8L III USM |
LensProfileEnable | 0 |
LensProfileSetup | LensDefaults |
LensSerialNumber | 4610008130 |
LightValue | 12.6 |
LookAmount | 1.000000 |
LookGroup | Profiles |
LookName | Adobe Color |
LookParametersCameraProfile | Adobe Standard |
LookParametersConvertToGrayscale | False |
LookParametersLookTable | E1095149FDB39D7A057BAB208837E2E1 |
LookParametersProcessVersion | 11.0 |
LookParametersToneCurvePV2012 | 0, 0, 22, 16, 40, 35, 127, 127, 224, 230, 240, 246, 255, 255 |
LookParametersToneCurvePV2012Blue | 0, 0, 255, 255 |
LookParametersToneCurvePV2012Green | 0, 0, 255, 255 |
LookParametersToneCurvePV2012Red | 0, 0, 255, 255 |
LookParametersVersion | 12.2.1 |
LookSupportsAmount | false |
LookSupportsMonochrome | false |
LookSupportsOutputReferred | false |
LuminanceAdjustmentAqua | 0 |
LuminanceAdjustmentBlue | 0 |
LuminanceAdjustmentGreen | 0 |
LuminanceAdjustmentMagenta | -50 |
LuminanceAdjustmentOrange | 0 |
LuminanceAdjustmentPurple | 0 |
LuminanceAdjustmentRed | 0 |
LuminanceAdjustmentYellow | 0 |
LuminanceSmoothing | 0 |
Make | Canon |
MaxApertureValue | 2.8 |
Megapixels | 42.7 |
MeteringMode | Multi-segment |
Model | Canon EOS 5D Mark IV |
ModifyDate (1) | 2020:06:28 19:07:29+02:00 |
ModifyDate | 2020:06:28 19:07:29 |
OverrideLookVignette | False |
PaintCorrectionActive | true |
PaintCorrectionAmount | 1.000000 |
PaintCorrectionBrightness | 0.000000 |
PaintCorrectionClarity2012 | 0.000000 |
PaintCorrectionContrast2012 (1) | 0.134021 |
PaintCorrectionContrast2012 | 0.000000 |
PaintCorrectionCorrectionRangeMaskColorAmount | 0.500000 |
PaintCorrectionCorrectionRangeMaskDepthFeather | 0.500000 |
PaintCorrectionCorrectionRangeMaskDepthMax | 1.000000 |
PaintCorrectionCorrectionRangeMaskDepthMin | 0.000000 |
PaintCorrectionCorrectionRangeMaskLumFeather | 0.500000 |
PaintCorrectionCorrectionRangeMaskLumMax | 1.000000 |
PaintCorrectionCorrectionRangeMaskLumMin | 0.000000 |
PaintCorrectionCorrectionRangeMaskType | 0 |
PaintCorrectionCorrectionRangeMaskVersion | +2 |
PaintCorrectionDefringe | 0.000000 |
PaintCorrectionExposure2012 (1) | -0.140867 |
PaintCorrectionExposure2012 | 0.241463 |
PaintCorrectionHighlights2012 (1) | -1.000000 |
PaintCorrectionHighlights2012 | 0.000000 |
PaintCorrectionHue | 240.000000 |
PaintCorrectionLocalBlacks2012 (1) | 0.000000 |
PaintCorrectionLocalBlacks2012 | -0.337226 |
PaintCorrectionLocalDehaze | 0.000000 |
PaintCorrectionLocalTexture (1) | 0.000000 |
PaintCorrectionLocalTexture | 0.230267 |
PaintCorrectionLocalWhites2012 (1) | 0.000000 |
PaintCorrectionLocalWhites2012 | -0.658425 |
PaintCorrectionLuminanceNoise | 0.000000 |
PaintCorrectionMaskCenterWeight (21) | 0.000000 |
PaintCorrectionMaskCenterWeight | 0.018014 |
PaintCorrectionMaskFlow (11) | 0.638479 |
PaintCorrectionMaskFlow (12) | 0.414983 |
PaintCorrectionMaskFlow (13) | 0.322953 |
PaintCorrectionMaskFlow (14) | 0.341802 |
PaintCorrectionMaskFlow (15) | 0.438836 |
PaintCorrectionMaskFlow (16) | 0.864591 |
PaintCorrectionMaskFlow (17) | 0.914719 |
PaintCorrectionMaskFlow (18) | 0.897135 |
PaintCorrectionMaskFlow (19) | 0.918801 |
PaintCorrectionMaskFlow (20) | 0.936190 |
PaintCorrectionMaskFlow (21) | 0.936519 |
PaintCorrectionMaskFlow (22) | 0.926045 |
PaintCorrectionMaskFlow (23) | 0.933633 |
PaintCorrectionMaskFlow (24) | 0.457622 |
PaintCorrectionMaskFlow (25) | 0.387013 |
PaintCorrectionMaskFlow (26) | 0.354777 |
PaintCorrectionMaskFlow (27) | 0.376658 |
PaintCorrectionMaskFlow (28) | 0.332299 |
PaintCorrectionMaskFlow (29) | 0.387939 |
PaintCorrectionMaskFlow (7) | 0.980000 |
PaintCorrectionMaskFlow | 0.461677 |
PaintCorrectionMaskRadius (12) | 0.025456 |
PaintCorrectionMaskRadius (2) | 0.083609 |
PaintCorrectionMaskRadius (21) | 0.032982 |
PaintCorrectionMaskRadius (4) | 0.127347 |
PaintCorrectionMaskRadius | 0.063230 |
PaintCorrectionMaskValue (18) | 0.000000 |
PaintCorrectionMaskValue | 0.716353 |
PaintCorrectionMaskWhat | Mask/Paint |
PaintCorrectionMoire | 0.000000 |
PaintCorrectionSaturation (1) | -0.020457 |
PaintCorrectionSaturation | 0.000000 |
PaintCorrectionShadows2012 | 0.000000 |
PaintCorrectionSharpness | 0.000000 |
PaintCorrectionTemperature | 0.000000 |
PaintCorrectionTint | 0.000000 |
PaintCorrectionWhat | Correction |
ParametricDarks | 0 |
ParametricHighlights | 0 |
ParametricHighlightSplit | 75 |
ParametricLights | 0 |
ParametricMidtoneSplit | 50 |
ParametricShadows | 0 |
ParametricShadowSplit | 25 |
PerspectiveAspect | 0 |
PerspectiveHorizontal | 0 |
PerspectiveRotate | 0.0 |
PerspectiveScale | 100 |
PerspectiveUpright | 0 |
PerspectiveVertical | 0 |
PerspectiveX | 0.00 |
PerspectiveY | 0.00 |
PostCropVignetteAmount | 0 |
PreservedFileName | 2F0A4569.CR2 |
ProcessVersion | 11.0 |
ProfileDescription | sRGB IEC61966-2.1 |
RawFileName | 2F0A4569.CR2 |
RecommendedExposureIndex | 200 |
RedHue | 0 |
RedSaturation | 0 |
Saturation | 0 |
SaturationAdjustmentAqua | 0 |
SaturationAdjustmentBlue | 0 |
SaturationAdjustmentGreen | 0 |
SaturationAdjustmentMagenta | +41 |
SaturationAdjustmentOrange | 0 |
SaturationAdjustmentPurple | 0 |
SaturationAdjustmentRed | +9 |
SaturationAdjustmentYellow | 0 |
ScaleFactor35efl | 0.8 |
SceneCaptureType | Standard |
SensitivityType | Recommended Exposure Index |
SerialNumber | 053023000870 |
Shadows2012 | +56 |
ShadowTint | 0 |
SharpenDetail | 25 |
SharpenEdgeMasking | 0 |
SharpenRadius | +1.0 |
Sharpness | 40 |
ShutterSpeed | 1/400 |
ShutterSpeedValue | 1/400 |
Software | Adobe Photoshop Lightroom Classic 9.2.1 (Macintosh) |
SplitToningBalance | 0 |
SplitToningHighlightHue | 0 |
SplitToningHighlightSaturation | 0 |
SplitToningShadowHue | 0 |
SplitToningShadowSaturation | 0 |
Texture | 0 |
Tint | +17 |
ToneCurve | 0, 0, 255, 255 |
ToneCurveBlue | 0, 0, 255, 255 |
ToneCurveGreen | 0, 0, 255, 255 |
ToneCurveName | Linear |
ToneCurveName2012 | Linear |
ToneCurvePV2012 | 0, 0, 255, 255 |
ToneCurvePV2012Blue | 0, 0, 255, 255 |
ToneCurvePV2012Green | 0, 0, 255, 255 |
ToneCurvePV2012Red | 0, 0, 255, 255 |
ToneCurveRed | 0, 0, 255, 255 |
ToneMapStrength | 0 |
Version | 12.2.1 |
Vibrance | +15 |
VignetteAmount | 0 |
WhiteBalance (1) | As Shot |
WhiteBalance | Auto |
Whites2012 | +11 |