Felt | Verdi |
AlreadyApplied | True |
Aperture | 13.0 |
ApertureValue | 13.0 |
BitsPerSample | 8 |
BlueHue | 0 |
BlueSaturation | 0 |
Brightness | +50 |
CameraProfile | ACR 2.4 |
ChromaticAberrationB | 0 |
ChromaticAberrationR | 0 |
CircleOfConfusion | 0.030 mm |
Clarity | 0 |
ColorComponents | 3 |
ColorMode | RGB |
ColorNoiseReduction | 25 |
ColorSpace (1) | Unknown (-1) |
ColorSpace | Uncalibrated |
ColorTemperature | 5000 |
Contrast | +25 |
ConvertToGrayscale | False |
CopyrightFlag | False |
CreateDate (1) | 2008:02:19 16:31:50+01:00 |
CreateDate | 2008:01:23 12:09:26 |
CreatorTool | Adobe Photoshop CS3 Macintosh |
CustomRendered | Normal |
DateTimeDigitized | 2008:01:23 12:09:26+01:00 |
DateTimeOriginal (1) | 2008:01:23 12:09:26+01:00 |
DateTimeOriginal | 2008:01:23 12:09:26 |
Defringe | 0 |
ExifImageHeight | 750 |
ExifImageWidth | 616 |
Exposure | +0.05 |
ExposureCompensation | 0 |
ExposureMode | Manual |
ExposureProgram | Manual |
ExposureTime | 1/160 |
FillLight | 0 |
Firmware | 1.1.4 |
Flash | Off, Did not fire |
FlashCompensation | 0 |
FlashFired | False |
FlashFunction | False |
FlashMode | Off |
FlashRedEyeMode | False |
FlashReturn | No return detection |
FNumber | 13.0 |
FocalLength | 90.0 mm |
FocalLength35efl | 90.0 mm (35 mm equivalent: 89.9 mm) |
Format | image/jpeg |
FOV | 22.6 deg |
GreenHue | 0 |
GreenSaturation | 0 |
HasCrop | False |
HasSettings | True |
HighlightRecovery | 8 |
HueAdjustmentAqua | 0 |
HueAdjustmentBlue | 0 |
HueAdjustmentGreen | 0 |
HueAdjustmentMagenta | 0 |
HueAdjustmentOrange | 0 |
HueAdjustmentPurple | 0 |
HueAdjustmentRed | 0 |
HueAdjustmentYellow | 0 |
HyperfocalDistance | 20.71 m |
ICCProfileName | Adobe RGB (1998) |
ImageHeight | 750 |
ImageNumber | 25945 |
ImageSize | 616x750 |
ImageWidth | 616 |
ISO | 100 |
Lens | 90.0 mm |
LensInfo | 90mm f/? |
LightValue | 14.7 |
LuminanceAdjustmentAqua | 0 |
LuminanceAdjustmentBlue | 0 |
LuminanceAdjustmentGreen | 0 |
LuminanceAdjustmentMagenta | 0 |
LuminanceAdjustmentOrange | 0 |
LuminanceAdjustmentPurple | 0 |
LuminanceAdjustmentRed | 0 |
LuminanceAdjustmentYellow | 0 |
LuminanceSmoothing | 0 |
Make | Canon |
MaxApertureValue | 2.8 |
Megapixels | 0.462 |
MeteringMode | Spot |
Model | Canon EOS-1Ds Mark II |
ModifyDate (1) | 2008:02:19 16:33:52+01:00 |
ModifyDate | 2008:02:19 16:33:52 |
Orientation | Horizontal (normal) |
ParametricDarks | 0 |
ParametricHighlights | 0 |
ParametricHighlightSplit | 75 |
ParametricLights | 0 |
ParametricMidtoneSplit | 50 |
ParametricShadows | 0 |
ParametricShadowSplit | 25 |
ProfileDescription | Adobe RGB (1998) |
Rating | 0 |
RawFileName | _P5Q6978.CR2 |
RedHue | 0 |
RedSaturation | 0 |
Saturation | 0 |
SaturationAdjustmentAqua | 0 |
SaturationAdjustmentBlue | 0 |
SaturationAdjustmentGreen | 0 |
SaturationAdjustmentMagenta | 0 |
SaturationAdjustmentOrange | 0 |
SaturationAdjustmentPurple | 0 |
SaturationAdjustmentRed | 0 |
SaturationAdjustmentYellow | 0 |
ScaleFactor35efl | 1.0 |
SceneCaptureType | Standard |
SerialNumber | 312206 |
Shadows | 8 |
ShadowTint | 0 |
SharpenDetail | 25 |
SharpenEdgeMasking | 0 |
SharpenRadius | +1.0 |
Sharpness | 25 |
ShutterSpeed | 1/160 |
ShutterSpeedValue | 1/160 |
SidecarForExtension | CR2 |
Software | Adobe Photoshop CS3 Macintosh |
SplitToningBalance | 0 |
SplitToningHighlightHue | 0 |
SplitToningHighlightSaturation | 0 |
SplitToningShadowHue | 0 |
SplitToningShadowSaturation | 0 |
Tint | +4 |
ToneCurve | 0, 0, 32, 22, 64, 56, 128, 128, 192, 196, 255, 255 |
ToneCurveName | Medium Contrast |
URL_List | |
Version | 4.3 |
Vibrance | 0 |
VignetteAmount | 0 |
WhiteBalance (2) | Custom |
WhiteBalance | Manual |