Felt | Verdi |
AlreadyApplied | True |
Aperture | 7.1 |
ApertureValue | 7.1 |
BitsPerSample | 8 |
BlueHue | -3 |
BlueSaturation | +18 |
Brightness | +59 |
CameraProfile | Embedded |
ChromaticAberrationB | 0 |
ChromaticAberrationR | 0 |
CircleOfConfusion | 0.019 mm |
ColorComponents | 3 |
ColorMode | RGB |
ColorNoiseReduction | 25 |
ColorSpace (1) | Unknown (-1) |
ColorSpace | Uncalibrated |
ColorTemperature | 5750 |
Contrast | +28 |
ConvertToGrayscale | False |
CopyrightFlag | False |
CreateDate (1) | 2008:09:18 01:09:46+02:00 |
CreateDate | 2008:09:17 11:58:33 |
CreatorTool | Adobe Photoshop CS3 Windows |
CropAngle | -2.374962 |
CropBottom | 0.89929 |
CropLeft | 0.09617 |
CropRight | 0.982566 |
CropTop | 0.053598 |
CustomRendered | Normal |
DateTimeDigitized | 2008:09:17 11:58:33.44+02:00 |
DateTimeOriginal (1) | 2008:09:17 11:58:33.44+02:00 |
DateTimeOriginal | 2008:09:17 11:58:33 |
DerivedFrom | |
ExifImageHeight | 3353 |
ExifImageWidth | 2333 |
Exposure | +0.30 |
ExposureCompensation | 0 |
ExposureMode | Manual |
ExposureProgram | Manual |
ExposureTime | 1/10 |
FillLight | 3 |
Firmware | 1.0.5 |
Flash | Off, Did not fire |
FlashCompensation | 0 |
FlashFired | False |
FlashFunction | False |
FlashMode | Off |
FlashRedEyeMode | False |
FlashReturn | No return detection |
FNumber | 7.1 |
FocalLength | 24.0 mm |
FocalLength35efl | 24.0 mm (35 mm equivalent: 38.9 mm) |
Format | image/jpeg |
FOV | 49.7 deg |
GreenHue | -3 |
GreenSaturation | -12 |
HasCrop | True |
HasSettings | True |
HighlightRecovery | 0 |
HueAdjustmentAqua | +28 |
HueAdjustmentBlue | +83 |
HueAdjustmentGreen | +6 |
HueAdjustmentMagenta | +35 |
HueAdjustmentOrange | -14 |
HueAdjustmentPurple | +3 |
HueAdjustmentRed | -35 |
HueAdjustmentYellow | -20 |
HyperfocalDistance | 4.37 m |
ICCProfileName | Adobe RGB (1998) |
ImageHeight | 3353 |
ImageNumber | 0 |
ImageSize | 2333x3353 |
ImageWidth | 2333 |
ISO | 100 |
Lens | EF-S17-85mm f/4-5.6 IS USM |
LensInfo | 17-85mm f/? |
LightValue | 9.0 |
LuminanceAdjustmentAqua | -82 |
LuminanceAdjustmentBlue | +27 |
LuminanceAdjustmentGreen | +52 |
LuminanceAdjustmentMagenta | 0 |
LuminanceAdjustmentOrange | +16 |
LuminanceAdjustmentPurple | -2 |
LuminanceAdjustmentRed | +62 |
LuminanceAdjustmentYellow | +45 |
LuminanceSmoothing | 0 |
Make | Canon |
MaxApertureValue | 4.0 |
Megapixels | 7.8 |
MeteringMode | Multi-segment |
Model | Canon EOS 40D |
ModifyDate (1) | 2008:09:18 01:09:46+02:00 |
ModifyDate | 2008:09:18 01:09:46 |
Orientation | Horizontal (normal) |
ParametricDarks | -19 |
ParametricHighlights | +52 |
ParametricHighlightSplit | 75 |
ParametricLights | +8 |
ParametricMidtoneSplit | 50 |
ParametricShadows | -35 |
ParametricShadowSplit | 25 |
ProfileDescription | Adobe RGB (1998) |
Rating | 3 |
RawFileName | IMG_5185.dng |
RedHue | -1 |
RedSaturation | -8 |
Saturation | -3 |
SaturationAdjustmentAqua | +40 |
SaturationAdjustmentBlue | -64 |
SaturationAdjustmentGreen | +3 |
SaturationAdjustmentMagenta | 0 |
SaturationAdjustmentOrange | +17 |
SaturationAdjustmentPurple | +3 |
SaturationAdjustmentRed | +48 |
SaturationAdjustmentYellow | +18 |
ScaleFactor35efl | 1.6 |
SceneCaptureType | Standard |
SerialNumber | 930523664 |
Shadows | 3 |
ShadowTint | +15 |
Sharpness | 25 |
ShutterSpeed | 1/10 |
ShutterSpeedValue | 1/10 |
Software | Adobe Photoshop CS3 Windows |
SplitToningBalance | 0 |
SplitToningHighlightHue | 23 |
SplitToningHighlightSaturation | 13 |
SplitToningShadowHue | 237 |
SplitToningShadowSaturation | 3 |
TimeZoneOffset | 2 2 |
Tint | -37 |
ToneCurve | 0, 0, 32, 22, 64, 56, 128, 128, 192, 196, 255, 255 |
ToneCurveName | Medium Contrast |
URL_List | |
Version | 4.0 |
Vibrance | -15 |
VignetteAmount | -100 |
VignetteMidpoint | 14 |
WhiteBalance (2) | Custom |
WhiteBalance | Auto |