Felt | Verdi |
AlreadyApplied | True |
Aperture | 2.0 |
ApertureValue | 2.0 |
BitsPerSample (1) | 8, 8, 8 |
BitsPerSample | 8 |
BlueHue | -2 |
BlueSaturation | -5 |
Brightness | +50 |
CameraProfile | ACR 4.4 |
ChromaticAberrationB | 0 |
ChromaticAberrationR | 0 |
CircleOfConfusion | 0.019 mm |
Clarity | +7 |
ColorComponents | 3 |
ColorMode | RGB |
ColorNoiseReduction | 25 |
ColorSpace | Uncalibrated |
ColorTemperature | 5900 |
Contrast | +31 |
ConvertToGrayscale | False |
CreateDate (1) | 2008:11:25 10:23:11.78+01:00 |
CreateDate | 2008:11:25 10:23:11 |
CreatorTool | Adobe Photoshop CS4 Windows |
CropAngle | 0.818455 |
CropBottom | 1 |
CropLeft | 0.015152 |
CropRight | 0.984848 |
CropTop | 0 |
CustomRendered | Normal |
DateTimeDigitized | 2008:11:25 10:23:11.78+01:00 |
DateTimeOriginal (1) | 2008:11:25 10:23:11.78+01:00 |
DateTimeOriginal | 2008:11:25 10:23:11 |
Defringe | 0 |
ExifImageHeight | 3806 |
ExifImageWidth | 2538 |
Exposure | -0.45 |
ExposureCompensation | 0 |
ExposureMode | Auto |
ExposureProgram | Shutter speed priority AE |
ExposureTime | 1/80 |
FillLight | 8 |
Firmware | 1.0.5 |
Flash | On, Fired |
FlashCompensation | -1.33333333333333 |
FlashFired | True |
FlashFunction | False |
FlashMode | On |
FlashRedEyeMode | False |
FlashReturn | No return detection |
FNumber | 2.0 |
FocalLength | 50.0 mm |
FocalLength35efl | 50.0 mm (35 mm equivalent: 80.9 mm) |
Format | image/jpeg |
FOV | 25.1 deg |
GreenHue | +6 |
GreenSaturation | +7 |
HasCrop | True |
HasSettings | True |
HighlightRecovery | 5 |
HueAdjustmentAqua | -59 |
HueAdjustmentBlue | +7 |
HueAdjustmentGreen | 0 |
HueAdjustmentMagenta | 0 |
HueAdjustmentOrange | -6 |
HueAdjustmentPurple | 0 |
HueAdjustmentRed | -26 |
HueAdjustmentYellow | 0 |
HyperfocalDistance | 67.35 m |
ICCProfileName | Adobe RGB (1998) |
ImageHeight | 3806 |
ImageNumber | 0 |
ImageSize | 2538x3806 |
ImageWidth | 2538 |
ISO | 400 |
Lens | EF50mm f/1.4 USM |
LensInfo | 50mm f/? |
LightValue | 6.3 |
LuminanceAdjustmentAqua | +28 |
LuminanceAdjustmentBlue | +100 |
LuminanceAdjustmentGreen | +31 |
LuminanceAdjustmentMagenta | 0 |
LuminanceAdjustmentOrange | +14 |
LuminanceAdjustmentPurple | 0 |
LuminanceAdjustmentRed | +16 |
LuminanceAdjustmentYellow | +78 |
LuminanceSmoothing | 0 |
Make | Canon |
MaxApertureValue | 1.4 |
Megapixels | 9.7 |
MeteringMode | Multi-segment |
Model | Canon EOS 40D |
ModifyDate (1) | 2008:11:28 01:08:06+01:00 |
ModifyDate | 2008:11:28 01:08:06 |
Orientation | Horizontal (normal) |
ParametricDarks | +15 |
ParametricHighlights | +9 |
ParametricHighlightSplit | 75 |
ParametricLights | +2 |
ParametricMidtoneSplit | 50 |
ParametricShadows | -6 |
ParametricShadowSplit | 25 |
PhotometricInterpretation | RGB |
PostCropVignetteAmount | -3 |
PostCropVignetteFeather | 50 |
PostCropVignetteMidpoint | 90 |
PostCropVignetteRoundness | 0 |
ProfileDescription | Adobe RGB (1998) |
Rating | 2 |
RawFileName | IMG_9375.CR2 |
RedHue | -3 |
RedSaturation | 0 |
SamplesPerPixel | 3 |
Saturation | +14 |
SaturationAdjustmentAqua | 0 |
SaturationAdjustmentBlue | -100 |
SaturationAdjustmentGreen | 0 |
SaturationAdjustmentMagenta | +2 |
SaturationAdjustmentOrange | 0 |
SaturationAdjustmentPurple | +8 |
SaturationAdjustmentRed | +29 |
SaturationAdjustmentYellow | 0 |
ScaleFactor35efl | 1.6 |
SceneCaptureType | Standard |
SerialNumber | 930523664 |
Shadows | 6 |
ShadowTint | -3 |
SharpenDetail | 25 |
SharpenEdgeMasking | 0 |
SharpenRadius | +1.0 |
Sharpness | 0 |
ShutterSpeed | 1/80 |
ShutterSpeedValue | 1/80 |
SidecarForExtension | CR2 |
Software | Adobe Photoshop CS4 Windows |
SplitToningBalance | 0 |
SplitToningHighlightHue | 51 |
SplitToningHighlightSaturation | 0 |
SplitToningShadowHue | 333 |
SplitToningShadowSaturation | 9 |
Tint | -25 |
ToneCurve | 0, 0, 32, 22, 64, 56, 128, 128, 192, 196, 255, 255 |
ToneCurveName | Medium Contrast |
URL_List | |
Version | 5.0 |
Vibrance | -2 |
VignetteAmount | -34 |
VignetteMidpoint | 69 |
WhiteBalance (2) | Custom |
WhiteBalance | Auto |