Felt | Verdi |
AlreadyApplied | True |
Aperture | 5.6 |
ApertureValue | 5.6 |
BitsPerSample | 8 |
BlueHue | 0 |
BlueSaturation | 0 |
Brightness | +50 |
By-line | Fredrik Haugen |
CameraProfile | Adobe Standard |
CFAPattern | [Green,Blue][Red,Green] |
ChromaticAberrationB | 0 |
ChromaticAberrationR | 0 |
CircleOfConfusion | 0.020 mm |
Clarity | +36 |
ColorComponents | 3 |
ColorNoiseReduction | 25 |
ColorTemperature | 5500 |
Contrast (2) | +25 |
Contrast | Normal |
ConvertToGrayscale | False |
Copyright | Fredrik Haugen |
CopyrightFlag | True |
CopyrightNotice | Fredrik Haugen |
CreateDate (1) | 2009:07:15 18:33:08.00+02:00 |
CreateDate | 2009:07:15 18:33:08 |
Creator | Fredrik Haugen |
CreatorCountry | Norway |
CreatorTool | Adobe Photoshop Lightroom |
CreatorWorkEmail | fmh1981@gmail.com |
CustomRendered | Normal |
DateTimeDigitized | 2009:07:15 18:33:08.00+02:00 |
DateTimeOriginal (1) | 2009:07:15 18:33:08.00+02:00 |
DateTimeOriginal | 2009:07:15 18:33:08 |
Defringe | 0 |
DigitalZoomRatio | 1 |
ExifImageHeight | 2848 |
ExifImageWidth | 4288 |
Exposure | -0.38 |
ExposureCompensation | 0 |
ExposureMode | Auto |
ExposureProgram | Not Defined |
ExposureTime | 1/125 |
FillLight | 0 |
Flash | Auto, Fired, Return detected |
FlashFired | True |
FlashFunction | False |
FlashMode | Auto |
FlashRedEyeMode | False |
FlashReturn | Return detected |
FNumber | 5.6 |
FocalLength | 70.0 mm |
FocalLength35efl | 70.0 mm (35 mm equivalent: 105.0 mm) |
FocalLengthIn35mmFormat | 105 mm |
FOV | 19.5 deg |
GainControl | None |
GreenHue | 0 |
GreenSaturation | 0 |
HasCrop | False |
HasSettings | True |
HighlightRecovery | 64 |
HueAdjustmentAqua | 0 |
HueAdjustmentBlue | 0 |
HueAdjustmentGreen | 0 |
HueAdjustmentMagenta | 0 |
HueAdjustmentOrange | 0 |
HueAdjustmentPurple | 0 |
HueAdjustmentRed | 0 |
HueAdjustmentYellow | 0 |
HyperfocalDistance | 43.68 m |
ImageHeight | 2848 |
ImageNumber | 1705 |
ImageSize | 4288x2848 |
ImageWidth | 4288 |
ISO | 200 |
Keywords | Blomster, Macro |
Lens | 70.0 mm f/2.8 |
LensInfo | 70mm f/2.8 |
LightSource | Unknown |
LightValue | 10.9 |
LuminanceAdjustmentAqua | 0 |
LuminanceAdjustmentBlue | 0 |
LuminanceAdjustmentGreen | 0 |
LuminanceAdjustmentMagenta | 0 |
LuminanceAdjustmentOrange | 0 |
LuminanceAdjustmentPurple | 0 |
LuminanceAdjustmentRed | 0 |
LuminanceAdjustmentYellow | 0 |
LuminanceSmoothing | 0 |
Make | NIKON CORPORATION |
Marked | True |
MaxApertureValue | 2.8 |
Megapixels | 12.2 |
MeteringMode | Multi-segment |
Model | NIKON D90 |
ModifyDate (1) | 2010:01:01 14:03:51+01:00 |
ModifyDate | 2010:01:01 14:03:51 |
ParametricDarks | 0 |
ParametricHighlights | 0 |
ParametricHighlightSplit | 75 |
ParametricLights | 0 |
ParametricMidtoneSplit | 50 |
ParametricShadows | 0 |
ParametricShadowSplit | 25 |
PostCropVignetteAmount | 0 |
ProfileDescription | sRGB IEC61966-2.1 |
RatingPercent | 0 |
RedHue | 0 |
RedSaturation | 0 |
Rights | Fredrik Haugen |
Saturation (2) | 0 |
Saturation | Normal |
SaturationAdjustmentAqua | 0 |
SaturationAdjustmentBlue | 0 |
SaturationAdjustmentGreen | 0 |
SaturationAdjustmentMagenta | 0 |
SaturationAdjustmentOrange | 0 |
SaturationAdjustmentPurple | 0 |
SaturationAdjustmentRed | 0 |
SaturationAdjustmentYellow | 0 |
ScaleFactor35efl | 1.5 |
SceneCaptureType | Standard |
SceneType | Directly photographed |
SensingMethod | One-chip color area |
SerialNumber | 6141450 |
Shadows | 14 |
ShadowTint | 0 |
SharpenDetail | 25 |
SharpenEdgeMasking | 0 |
SharpenRadius | +1.0 |
Sharpness (2) | 25 |
Sharpness | Normal |
ShutterSpeed | 1/125 |
ShutterSpeedValue | 1/125 |
Software | Nikon Transfer 1.1 W |
SplitToningBalance | 0 |
SplitToningHighlightHue | 0 |
SplitToningHighlightSaturation | 0 |
SplitToningShadowHue | 0 |
SplitToningShadowSaturation | 0 |
Subject | Blomster, Macro |
SubjectDistanceRange | Unknown |
Tint | +10 |
ToneCurve | 0, 0, 32, 16, 64, 50, 128, 128, 192, 202, 255, 255 |
ToneCurveName | Strong Contrast |
Version | 5.5 |
Vibrance | +31 |
VignetteAmount | 0 |
WhiteBalance (2) | Daylight |
WhiteBalance | Auto |