Felt | Verdi |
AlreadyApplied | True |
Aperture | 22.0 |
ApertureValue | 22.0 |
BitsPerSample | 8 |
BlueHue | 0 |
BlueSaturation | 0 |
Brightness | +82 |
CameraProfile | Camera Landscape |
CFAPattern | [Red,Green][Green,Blue] |
ChromaticAberrationB | 0 |
ChromaticAberrationR | 0 |
CircleOfConfusion | 0.030 mm |
Clarity | +50 |
ColorComponents | 3 |
ColorNoiseReduction | 25 |
ColorTemperature | 5450 |
Contrast (2) | +25 |
Contrast | Normal |
ConvertToGrayscale | False |
CreateDate (1) | 2009:06:26 09:48:10.25+02:00 |
CreateDate | 2009:06:26 09:48:10 |
CreatorTool | Adobe Photoshop Lightroom |
CropAngle | -5.37354 |
CropBottom | 0.86986 |
CropHeight | 2972 |
CropLeft | 0.009738 |
CropRight | 0.972041 |
CropTop | 0.265359 |
CropUnit | pixels |
CropWidth | 5566 |
CustomRendered | Normal |
DateTimeDigitized | 2009:06:26 09:48:10.25+02:00 |
DateTimeOriginal (1) | 2009:06:26 09:48:10.25+02:00 |
DateTimeOriginal | 2009:06:26 09:48:10 |
Defringe | 0 |
DigitalZoomRatio | 1 |
ExifImageHeight | 2972 |
ExifImageWidth | 5566 |
Exposure | +1.06 |
ExposureCompensation | -1 |
ExposureMode | Auto |
ExposureProgram | Aperture-priority AE |
ExposureTime | 1/500 |
FillLight | 23 |
Flash | No Flash |
FlashFired | False |
FlashFunction | False |
FlashMode | Unknown |
FlashRedEyeMode | False |
FlashReturn | No return detection |
FNumber | 22.0 |
FocalLength | 35.0 mm |
FocalLength35efl | 35.0 mm (35 mm equivalent: 35.0 mm) |
FocalLengthIn35mmFormat | 35 mm |
FOV | 54.4 deg |
GainControl | Low gain up |
GreenHue | 0 |
GreenSaturation | 0 |
HasCrop | True |
HasSettings | True |
HighlightRecovery | 0 |
HueAdjustmentAqua | 0 |
HueAdjustmentBlue | 0 |
HueAdjustmentGreen | 0 |
HueAdjustmentMagenta | 0 |
HueAdjustmentOrange | 0 |
HueAdjustmentPurple | 0 |
HueAdjustmentRed | 0 |
HueAdjustmentYellow | 0 |
HyperfocalDistance | 1.85 m |
ImageHeight | 2972 |
ImageNumber | 4170 |
ImageSize | 5566x2972 |
ImageWidth | 5566 |
ISO | 400 |
Keywords | Aves, Dyr, Europa, Fugl, Fugler, Natur, Nord-Europa, Norden, Norge, Sjøfugler, Skandinavia, Terner, svalbard |
Label | Red |
Lens | 17.0-35.0 mm f/2.8 |
LensInfo | 17-35mm f/2.8 |
LightSource | Unknown |
LightValue | 15.9 |
LuminanceAdjustmentAqua | 0 |
LuminanceAdjustmentBlue | 0 |
LuminanceAdjustmentGreen | 0 |
LuminanceAdjustmentMagenta | 0 |
LuminanceAdjustmentOrange | 0 |
LuminanceAdjustmentPurple | 0 |
LuminanceAdjustmentRed | 0 |
LuminanceAdjustmentYellow | 0 |
LuminanceSmoothing | 0 |
Make | NIKON CORPORATION |
MaxApertureValue | 2.8 |
Megapixels | 16.5 |
MeteringMode | Multi-segment |
Model | NIKON D3X |
ModifyDate (1) | 2010:01:30 19:50:07+01:00 |
ModifyDate | 2010:01:30 19:50:07 |
PaintCorrectionActive | true |
PaintCorrectionAmount | 1.000000 |
PaintCorrectionBrightness (1) | 0.100000 |
PaintCorrectionBrightness | 0.150000 |
PaintCorrectionClarity | 0.575000 |
PaintCorrectionContrast (1) | 0.000000 |
PaintCorrectionContrast | 0.200000 |
PaintCorrectionExposure (1) | 0.250000 |
PaintCorrectionExposure | 0.075000 |
PaintCorrectionHue (1) | 234.000000 |
PaintCorrectionHue | 241.000000 |
PaintCorrectionMaskCenterWeight | 0.349837 |
PaintCorrectionMaskFlow | 1.000000 |
PaintCorrectionMaskRadius (11) | 0.003054 |
PaintCorrectionMaskRadius | 0.008309 |
PaintCorrectionMaskValue | 0.350000 |
PaintCorrectionMaskWhat | Mask/Paint |
PaintCorrectionSaturation (1) | 0.475000 |
PaintCorrectionSaturation (2) | 0.010000 |
PaintCorrectionSaturation (3) | 0.200000 |
PaintCorrectionSaturation | 0.000000 |
PaintCorrectionSharpness (1) | 0.200000 |
PaintCorrectionSharpness | 0.375000 |
PaintCorrectionWhat | Correction |
ParametricDarks | +26 |
ParametricHighlights | -45 |
ParametricHighlightSplit | 75 |
ParametricLights | 0 |
ParametricMidtoneSplit | 50 |
ParametricShadows | +43 |
ParametricShadowSplit | 25 |
PostCropVignetteAmount | 0 |
ProfileDescription | Adobe RGB (1998) |
Rating | 3 |
RedHue | 0 |
RedSaturation | 0 |
Saturation (2) | 0 |
Saturation | Normal |
SaturationAdjustmentAqua | 0 |
SaturationAdjustmentBlue | 0 |
SaturationAdjustmentGreen | 0 |
SaturationAdjustmentMagenta | 0 |
SaturationAdjustmentOrange | 0 |
SaturationAdjustmentPurple | 0 |
SaturationAdjustmentRed | 0 |
SaturationAdjustmentYellow | 0 |
ScaleFactor35efl | 1.0 |
SceneCaptureType | Standard |
SceneType | Directly photographed |
SensingMethod | One-chip color area |
SerialNumber | 5005286 |
Shadows | 11 |
ShadowTint | 0 |
SharpenDetail | 25 |
SharpenEdgeMasking | 0 |
SharpenRadius | +1.0 |
Sharpness (2) | 25 |
Sharpness | Normal |
ShutterSpeed | 1/500 |
ShutterSpeedValue | 1/500 |
Software | Ver.1.00 |
SplitToningBalance | 0 |
SplitToningHighlightHue | 0 |
SplitToningHighlightSaturation | 0 |
SplitToningShadowHue | 0 |
SplitToningShadowSaturation | 0 |
Subject | Aves, Dyr, Europa, Fugl, Fugler, Natur, Nord-Europa, Norden, Norge, Sjøfugler, Skandinavia, Terner, svalbard |
SubjectDistanceRange | Unknown |
Tint | -9 |
ToneCurve | 0, 0, 32, 22, 64, 56, 128, 128, 192, 196, 255, 255 |
ToneCurveName | Medium Contrast |
Version | 5.5 |
Vibrance | +25 |
VignetteAmount | 0 |
WhiteBalance (2) | Custom |
WhiteBalance | Auto |