Felt | Verdi |
AlreadyApplied | True |
Aperture | 8.0 |
ApertureValue | 8.0 |
BitsPerSample | 8 |
BlueHue | 0 |
BlueSaturation | 0 |
Brightness | +50 |
By-line | Robin Strand |
CameraProfile | Adobe Standard |
CFAPattern | [Red,Green][Green,Blue] |
ChromaticAberrationB | 0 |
ChromaticAberrationR | 0 |
CircleOfConfusion | 0.030 mm |
Clarity | +43 |
ColorComponents | 3 |
ColorNoiseReduction | 25 |
ColorNoiseReductionDetail | 50 |
ColorTemperature | 5085 |
Contrast (2) | +25 |
Contrast | Normal |
ConvertToGrayscale | False |
Copyright | ROBIN STRAND / NORPHOTO AS |
CopyrightFlag | True |
CopyrightNotice | ROBIN STRAND / NORPHOTO AS |
Country | Norway |
Country-PrimaryLocationName | Norway |
CreateDate (1) | 2010:07:28 12:01:16.31+02:00 |
CreateDate | 2010:07:28 12:01:16 |
Creator | Robin Strand |
CreatorAddress | Porsveien 23 |
CreatorCity | Bergen |
CreatorCountry | Norway |
CreatorPostalCode | 5142 |
CreatorRegion | Fyllingsdalen |
CreatorTool | Adobe Photoshop Lightroom |
CreatorWorkEmail | robinstrand56@gmail.com |
CreatorWorkTelephone | 0047 90764724 |
CreatorWorkURL | www.norphoto.no and http://norphoto.smugmug.com |
CustomRendered | Normal |
DateTimeDigitized | 2010:07:28 12:01:16.31+02:00 |
DateTimeOriginal (1) | 2010:07:28 12:01:16.31+02:00 |
DateTimeOriginal | 2010:07:28 12:01:16 |
Defringe | 0 |
DigitalZoomRatio | 1 |
DOF | 0.005 m (0.558 - 0.562 m) |
ExifImageHeight | 681 |
ExifImageWidth | 1024 |
Exposure | 0.00 |
ExposureCompensation | 0 |
ExposureMode | Auto |
ExposureProgram | Aperture-priority AE |
ExposureTime | 1/250 |
FillLight | 0 |
Flash | No Flash |
FlashFired | False |
FlashFunction | False |
FlashMode | Unknown |
FlashRedEyeMode | False |
FlashReturn | No return detection |
FNumber | 8.0 |
FocalLength | 150.0 mm |
FocalLength35efl | 150.0 mm (35 mm equivalent: 150.0 mm) |
FocalLengthIn35mmFormat | 150 mm |
FOV | 13.7 deg |
GainControl | High gain up |
GrainAmount | 0 |
GreenHue | 0 |
GreenSaturation | 0 |
HasCrop | False |
HasSettings | True |
HighlightRecovery | 0 |
HueAdjustmentAqua | 0 |
HueAdjustmentBlue | 0 |
HueAdjustmentGreen | 0 |
HueAdjustmentMagenta | 0 |
HueAdjustmentOrange | 0 |
HueAdjustmentPurple | 0 |
HueAdjustmentRed | 0 |
HueAdjustmentYellow | 0 |
HyperfocalDistance | 93.61 m |
ImageHeight | 681 |
ImageNumber | 8451 |
ImageSize | 1024x681 |
ImageWidth | 1024 |
ISO | 2200 |
Keywords | animal, blåbær, blåbærlyng, hagen, mouse, mus, mus spiser blåbær, strawberry, terassen |
Label | Red |
Lens | 150.0 mm f/2.8 |
LensID (1) | 72 |
LensID | Sigma APO Macro 150mm F2.8 EX DG HSM |
LensInfo | 150mm f/2.8 |
LensManualDistortionAmount | 0 |
LensProfileEnable | 0 |
LensProfileSetup | LensDefaults |
LightSource | Unknown |
LightValue | 9.5 |
LuminanceAdjustmentAqua | 0 |
LuminanceAdjustmentBlue | 0 |
LuminanceAdjustmentGreen | 0 |
LuminanceAdjustmentMagenta | 0 |
LuminanceAdjustmentOrange | 0 |
LuminanceAdjustmentPurple | 0 |
LuminanceAdjustmentRed | 0 |
LuminanceAdjustmentYellow | 0 |
LuminanceNoiseReductionContrast | 0 |
LuminanceNoiseReductionDetail | 50 |
LuminanceSmoothing | 19 |
Make | NIKON CORPORATION |
Marked | True |
MaxApertureValue | 2.8 |
Megapixels | 0.697 |
MeteringMode | Multi-segment |
Model | NIKON D700 |
ModifyDate (1) | 2010:07:28 19:36:42+02:00 |
ModifyDate | 2010:07:28 19:36:42 |
ParametricDarks | 0 |
ParametricHighlights | 0 |
ParametricHighlightSplit | 75 |
ParametricLights | 0 |
ParametricMidtoneSplit | 50 |
ParametricShadows | +8 |
ParametricShadowSplit | 25 |
PerspectiveHorizontal | 0 |
PerspectiveRotate | 0.0 |
PerspectiveScale | 100 |
PerspectiveVertical | 0 |
PostCropVignetteAmount | 0 |
ProcessVersion | 5.7 |
ProfileDescription | sRGB IEC61966-2.1 |
Rating | 5 |
RedHue | 0 |
RedSaturation | 0 |
Rights | ROBIN STRAND / NORPHOTO AS |
Saturation (2) | +13 |
Saturation | Normal |
SaturationAdjustmentAqua | 0 |
SaturationAdjustmentBlue | 0 |
SaturationAdjustmentGreen | 0 |
SaturationAdjustmentMagenta | 0 |
SaturationAdjustmentOrange | 0 |
SaturationAdjustmentPurple | 0 |
SaturationAdjustmentRed | 0 |
SaturationAdjustmentYellow | 0 |
ScaleFactor35efl | 1.0 |
SceneCaptureType | Standard |
SceneType | Directly photographed |
SensingMethod | One-chip color area |
SerialNumber | 2121873 |
Shadows | 10 |
ShadowTint | 0 |
SharpenDetail | 26 |
SharpenEdgeMasking | 22 |
SharpenRadius | +0.6 |
Sharpness (2) | 32 |
Sharpness | Normal |
ShutterSpeed | 1/250 |
ShutterSpeedValue | 1/250 |
Software | Ver.1.02 |
SplitToningBalance | 0 |
SplitToningHighlightHue | 0 |
SplitToningHighlightSaturation | 0 |
SplitToningShadowHue | 0 |
SplitToningShadowSaturation | 0 |
Subject | animal, blåbær, blåbærlyng, hagen, mouse, mus, mus spiser blåbær, strawberry, terassen |
SubjectDistance | 0.56 m |
SubjectDistanceRange | Unknown |
Tint | +10 |
ToneCurve | 0, 0, 32, 16, 64, 50, 128, 128, 192, 202, 255, 255 |
ToneCurveName | Strong Contrast |
UsageTerms | Single time use unless otherwise stated |
Version | 6.1 |
Vibrance | +60 |
VignetteAmount | 0 |
WhiteBalance (2) | Custom |
WhiteBalance | Auto |