Felt | Verdi |
AlreadyApplied | True |
Aperture | 7.1 |
ApertureValue | 7.1 |
BitsPerSample | 8 |
BlueHue | 0 |
BlueSaturation | 0 |
Brightness | 0 |
CameraProfile | Adobe Standard |
CFAPattern | [Green,Red][Blue,Green] |
ChromaticAberrationB | 0 |
ChromaticAberrationR | 0 |
CircleOfConfusion | 0.020 mm |
Clarity | 0 |
ColorComponents | 3 |
ColorNoiseReduction | 74 |
ColorTemperature | 5350 |
Contrast (2) | +50 |
Contrast | Low |
ConvertToGrayscale | False |
Copyright | Espen Seierstad |
CopyrightFlag | True |
CopyrightNotice | Espen Seierstad |
CreateDate (1) | 2010:07:11 17:32:15.58+02:00 |
CreateDate | 2010:07:11 17:32:15 |
CreatorTool | Adobe Photoshop Lightroom |
CropAngle | 1.98842 |
CropBottom | 0.971203 |
CropHeight | 600 |
CropLeft | 0.016271 |
CropRight | 0.468658 |
CropTop | 0.2468 |
CropUnit | pixels |
CropWidth | 600 |
CustomRendered | Normal |
DateTimeDigitized | 2010:07:11 17:32:15.58+02:00 |
DateTimeOriginal (1) | 2010:07:11 17:32:15.58+02:00 |
DateTimeOriginal | 2010:07:11 17:32:15 |
Defringe | 0 |
DigitalZoomRatio | 1 |
DOF | 4.44 m (47.98 - 52.42 m) |
ExifImageHeight | 600 |
ExifImageWidth | 600 |
Exposure | +1.65 |
ExposureCompensation | 0 |
ExposureMode | Auto |
ExposureProgram | Shutter speed priority AE |
ExposureTime | 1/2500 |
FillLight | 0 |
Flash | No Flash |
FlashFired | False |
FlashFunction | False |
FlashMode | Unknown |
FlashRedEyeMode | False |
FlashReturn | No return detection |
FNumber | 7.1 |
FocalLength | 400.0 mm |
FocalLength35efl | 400.0 mm (35 mm equivalent: 600.0 mm) |
FocalLengthIn35mmFormat | 600 mm |
FOV | 3.4 deg |
GainControl | None |
GradientBasedCorrActive | true |
GradientBasedCorrAmount | 1.000000 |
GradientBasedCorrBrightness | 0.000000 |
GradientBasedCorrClarity | 0.000000 |
GradientBasedCorrContrast | 0.000000 |
GradientBasedCorrExposure (1) | -0.175000 |
GradientBasedCorrExposure | -0.100000 |
GradientBasedCorrHue | 116.000000 |
GradientBasedCorrMaskFullX (1) | 0.257612 |
GradientBasedCorrMaskFullX | 0.228346 |
GradientBasedCorrMaskFullY (1) | 0.254163 |
GradientBasedCorrMaskFullY | 0.969048 |
GradientBasedCorrMaskValue | 1.000000 |
GradientBasedCorrMaskWhat | Mask/Gradient |
GradientBasedCorrMaskZeroX (1) | 0.250601 |
GradientBasedCorrMaskZeroX | 0.237551 |
GradientBasedCorrMaskZeroY (1) | 0.506344 |
GradientBasedCorrMaskZeroY | 0.622491 |
GradientBasedCorrSaturation | 0.000000 |
GradientBasedCorrSharpness | 0.000000 |
GradientBasedCorrWhat | Correction |
GreenHue | 0 |
GreenSaturation | 0 |
HasCrop | True |
HasSettings | True |
HighlightRecovery | 0 |
HueAdjustmentAqua | 0 |
HueAdjustmentBlue | 0 |
HueAdjustmentGreen | 0 |
HueAdjustmentMagenta | 0 |
HueAdjustmentOrange | 0 |
HueAdjustmentPurple | 0 |
HueAdjustmentRed | 0 |
HueAdjustmentYellow | 0 |
HyperfocalDistance | 1125.03 m |
ImageHeight | 600 |
ImageNumber | 20653 |
ImageSize | 600x600 |
ImageWidth | 600 |
ISO | 200 |
Label | Red |
Lens | 400.0 mm f/2.8 |
LensID (1) | 150 |
LensID | AF-S VR Nikkor 400mm f/2.8G ED |
LensInfo | 400mm f/2.8 |
LightSource | Unknown |
LightValue | 15.9 |
LuminanceAdjustmentAqua | 0 |
LuminanceAdjustmentBlue | -24 |
LuminanceAdjustmentGreen | 0 |
LuminanceAdjustmentMagenta | 0 |
LuminanceAdjustmentOrange | 0 |
LuminanceAdjustmentPurple | 0 |
LuminanceAdjustmentRed | 0 |
LuminanceAdjustmentYellow | 0 |
LuminanceSmoothing | 100 |
Make | NIKON CORPORATION |
Marked | True |
MaxApertureValue | 2.8 |
Megapixels | 0.360 |
MeteringMode | Spot |
Model | NIKON D200 |
ModifyDate (1) | 2010:08:23 15:36:12+02:00 |
ModifyDate | 2010:08:23 15:36:12 |
PaintCorrectionActive | true |
PaintCorrectionAmount | 1.000000 |
PaintCorrectionBrightness | 0.000000 |
PaintCorrectionClarity | 0.350000 |
PaintCorrectionContrast | 0.475000 |
PaintCorrectionExposure | 0.000000 |
PaintCorrectionHue | 116.000000 |
PaintCorrectionMaskCenterWeight | 0.060682 |
PaintCorrectionMaskFlow | 1.000000 |
PaintCorrectionMaskRadius | 0.024715 |
PaintCorrectionMaskValue | 1.000000 |
PaintCorrectionMaskWhat | Mask/Paint |
PaintCorrectionSaturation | 0.000000 |
PaintCorrectionSharpness | 0.125000 |
PaintCorrectionWhat | Correction |
ParametricDarks | -20 |
ParametricHighlights | +60 |
ParametricHighlightSplit | 75 |
ParametricLights | +10 |
ParametricMidtoneSplit | 50 |
ParametricShadows | -60 |
ParametricShadowSplit | 25 |
PostCropVignetteAmount | 0 |
ProfileDescription | sRGB IEC61966-2.1 |
Rating | 3 |
RedHue | 0 |
RedSaturation | 0 |
Rights | Espen Seierstad |
Saturation (2) | 0 |
Saturation | Normal |
SaturationAdjustmentAqua | +50 |
SaturationAdjustmentBlue | +48 |
SaturationAdjustmentGreen | +10 |
SaturationAdjustmentMagenta | 0 |
SaturationAdjustmentOrange | +13 |
SaturationAdjustmentPurple | +23 |
SaturationAdjustmentRed | 0 |
SaturationAdjustmentYellow | +23 |
ScaleFactor35efl | 1.5 |
SceneCaptureType | Standard |
SceneType | Directly photographed |
SensingMethod | One-chip color area |
Shadows | 19 |
ShadowTint | 0 |
SharpenDetail | 25 |
SharpenEdgeMasking | 62 |
SharpenRadius | +0.8 |
Sharpness (2) | 107 |
Sharpness | Hard |
ShutterSpeed | 1/2500 |
ShutterSpeedValue | 1/2500 |
Software | Ver.2.00 |
SplitToningBalance | 0 |
SplitToningHighlightHue | 0 |
SplitToningHighlightSaturation | 0 |
SplitToningShadowHue | 0 |
SplitToningShadowSaturation | 0 |
SubjectDistance | 50.1 m |
SubjectDistanceRange | Unknown |
Tint | -7 |
ToneCurve | 0, 0, 255, 255 |
ToneCurveName | Linear |
UserComment | Espen Seierstad |
Version | 5.7 |
Vibrance | 0 |
VignetteAmount | 0 |
WhiteBalance (2) | As Shot |
WhiteBalance | Auto |