Felt | Verdi |
AlreadyApplied | True |
Aperture | 4.0 |
ApertureValue | 4.0 |
BitsPerSample (1) | 8 8 8 |
BitsPerSample | 8 |
BlueHue | 0 |
BlueSaturation | 0 |
Brightness | +57 |
CameraProfile | Adobe Standard |
ChromaticAberrationB | 0 |
ChromaticAberrationR | 0 |
CircleOfConfusion | 0.019 mm |
Clarity | -24 |
ColorComponents | 3 |
ColorMode | RGB |
ColorNoiseReduction | 25 |
ColorSpace | sRGB |
ColorTemperature | 4262 |
Contrast | +59 |
ConvertToGrayscale | False |
CreateDate (1) | 2010:10:11 15:27:03.33+02:00 |
CreateDate | 2010:10:11 15:27:03 |
CreatorTool | Adobe Photoshop Lightroom |
CropAngle | 0 |
CropBottom | 1 |
CropHeight | 3168 |
CropLeft | 0 |
CropRight | 0.985337 |
CropTop | 0 |
CropUnit | pixels |
CropWidth | 4682 |
CustomRendered | Normal |
DateCreated (1) | 2010:10:11 |
DateCreated | 2010:10:11 15:27:03.033 |
DateTimeOriginal | 2010:10:11 15:27:03 |
Defringe | 0 |
DOF | 0.013 m (0.524 - 0.536 m) |
ExifImageHeight | 3168 |
ExifImageWidth | 4682 |
Exposure | 0.00 |
ExposureCompensation | 0 |
ExposureMode | Manual |
ExposureProgram | Manual |
ExposureTime | 1/40 |
FillLight | 0 |
Firmware | 1.0.7 |
Flash | Off, Did not fire |
FlashCompensation | 0 |
FNumber | 4.0 |
FocalLength | 55.0 mm |
FocalLength35efl | 55.0 mm (35 mm equivalent: 87.2 mm) |
Format | image/jpeg |
FOV | 23.3 deg |
GreenHue | 0 |
GreenSaturation | 0 |
HasCrop | True |
HasSettings | True |
HighlightRecovery | 0 |
HueAdjustmentAqua | 0 |
HueAdjustmentBlue | 0 |
HueAdjustmentGreen | 0 |
HueAdjustmentMagenta | 0 |
HueAdjustmentOrange | +10 |
HueAdjustmentPurple | 0 |
HueAdjustmentRed | 0 |
HueAdjustmentYellow | 0 |
HyperfocalDistance | 39.88 m |
ICCProfileName | sRGB IEC61966-2.1 |
ImageHeight | 3168 |
ImageNumber | 0 |
ImageSize | 4682x3168 |
ImageWidth | 4682 |
ISO | 400 |
Lens | EF-S17-55mm f/2.8 IS USM |
LensID (1) | 240 |
LensID | Canon EF-S 17-55mm f/2.8 IS USM |
LensInfo | 17-55mm f/? |
LightValue | 7.3 |
LuminanceAdjustmentAqua | 0 |
LuminanceAdjustmentBlue | -43 |
LuminanceAdjustmentGreen | -79 |
LuminanceAdjustmentMagenta | 0 |
LuminanceAdjustmentOrange | -67 |
LuminanceAdjustmentPurple | 0 |
LuminanceAdjustmentRed | 0 |
LuminanceAdjustmentYellow | 0 |
LuminanceSmoothing | 0 |
Make | Canon |
MaxApertureValue | 2.8 |
Megapixels | 14.8 |
MeteringMode | Partial |
Model | Canon EOS 50D |
ModifyDate (1) | 2010:10:11 22:14:49+02:00 |
ModifyDate | 2010:10:11 22:14:49 |
Orientation | Horizontal (normal) |
PaintCorrectionActive | true |
PaintCorrectionAmount | 1.000000 |
PaintCorrectionBrightness | 0.000000 |
PaintCorrectionClarity | 0.000000 |
PaintCorrectionContrast | 0.000000 |
PaintCorrectionExposure (1) | -0.675000 |
PaintCorrectionExposure (2) | -0.175000 |
PaintCorrectionExposure (3) | -0.159000 |
PaintCorrectionExposure | -0.400000 |
PaintCorrectionHue | 230.000000 |
PaintCorrectionMaskCenterWeight | 0.188233 |
PaintCorrectionMaskFlow | 1.000000 |
PaintCorrectionMaskRadius (4) | 0.061667 |
PaintCorrectionMaskRadius | 0.144808 |
PaintCorrectionMaskValue | 0.225000 |
PaintCorrectionMaskWhat | Mask/Paint |
PaintCorrectionSaturation | 0.000000 |
PaintCorrectionSharpness | 0.000000 |
PaintCorrectionWhat | Correction |
ParametricDarks | 0 |
ParametricHighlights | 0 |
ParametricHighlightSplit | 75 |
ParametricLights | 0 |
ParametricMidtoneSplit | 50 |
ParametricShadows | 0 |
ParametricShadowSplit | 25 |
PhotometricInterpretation | RGB |
PostCropVignetteAmount | 0 |
ProfileDescription | sRGB IEC61966-2.1 |
RedHue | 0 |
RedSaturation | 0 |
Saturation | -40 |
SaturationAdjustmentAqua | -100 |
SaturationAdjustmentBlue | -90 |
SaturationAdjustmentGreen | -43 |
SaturationAdjustmentMagenta | 0 |
SaturationAdjustmentOrange | +40 |
SaturationAdjustmentPurple | 0 |
SaturationAdjustmentRed | 0 |
SaturationAdjustmentYellow | +2 |
ScaleFactor35efl | 1.6 |
SceneCaptureType | Standard |
SerialNumber | 2230706872 |
Shadows | 5 |
ShadowTint | 0 |
SharpenDetail | 25 |
SharpenEdgeMasking | 0 |
SharpenRadius | +1.0 |
Sharpness | 75 |
ShutterSpeed | 1/40 |
ShutterSpeedValue | 1/40 |
Software | Adobe Photoshop CS5 Windows |
SplitToningBalance | 0 |
SplitToningHighlightHue | 0 |
SplitToningHighlightSaturation | 0 |
SplitToningShadowHue | 0 |
SplitToningShadowSaturation | 0 |
SubjectDistance | 0.53 m |
Tint | +32 |
ToneCurve | 0, 0, 32, 22, 64, 56, 128, 128, 192, 196, 255, 255 |
ToneCurveName | Medium Contrast |
URL_List | |
Version | 5.7 |
Vibrance | -57 |
VignetteAmount | -62 |
VignetteMidpoint | 51 |
WhiteBalance (1) | Custom |
WhiteBalance | Auto |