Felt | Verdi |
AlreadyApplied | True |
Aperture | 11.0 |
ApertureValue | 11.0 |
ApproximateFocusDistance | 4294967295 |
BitsPerSample | 8 |
BlueHue | 0 |
BlueSaturation | 0 |
Brightness | 0 |
CameraProfile | Embedded |
CFAPattern | [Red,Green][Green,Blue] |
ChromaticAberrationB | 0 |
ChromaticAberrationR | 0 |
CircleOfConfusion | 0.020 mm |
Clarity | +52 |
ColorComponents | 3 |
ColorNoiseReduction | 0 |
ColorSpace | Unknown (-1) |
Contrast (2) | +2 |
Contrast | Normal |
ConvertToGrayscale | False |
CreateDate (1) | 2011:06:12 13:54:05.33+02:00 |
CreateDate | 2011:06:12 13:54:05 |
CreatorTool | Adobe Photoshop Lightroom |
CropAngle | 0 |
CropBottom | 0.910642 |
CropConstrainToWarp | 0 |
CropHeight | 2703 |
CropLeft | 0.089358 |
CropRight | 1 |
CropTop | 0 |
CropUnit | pixels |
CropWidth | 4069 |
CustomRendered | Normal |
DateTimeDigitized | 2011:06:12 13:54:05.33+02:00 |
DateTimeOriginal (1) | 2011:06:12 13:54:05.33+02:00 |
DateTimeOriginal | 2011:06:12 13:54:05 |
Defringe | 0 |
DigitalZoomRatio | 1 |
DOF | inf (11.35 m - inf) |
ExifImageHeight | 2703 |
ExifImageWidth | 4069 |
Exposure | 0.00 |
ExposureCompensation | 0 |
ExposureMode | Auto |
ExposureProgram | Aperture-priority AE |
ExposureTime | 1/320 |
FillLight | 0 |
Flash | No Flash |
FlashFired | False |
FlashFunction | False |
FlashMode | Unknown |
FlashRedEyeMode | False |
FlashReturn | No return detection |
FNumber | 11.0 |
FocalLength | 50.0 mm |
FocalLength35efl | 50.0 mm (35 mm equivalent: 75.0 mm) |
FocalLengthIn35mmFormat | 75 mm |
Format | image/tiff |
FOV | 27.0 deg |
GainControl | None |
GrainAmount | 0 |
GreenHue | 0 |
GreenSaturation | 0 |
HasCrop | True |
HasSettings | True |
HighlightRecovery | 0 |
HueAdjustmentAqua | 0 |
HueAdjustmentBlue | 0 |
HueAdjustmentGreen | 0 |
HueAdjustmentMagenta | 0 |
HueAdjustmentOrange | 0 |
HueAdjustmentPurple | 0 |
HueAdjustmentRed | 0 |
HueAdjustmentYellow | 0 |
HyperfocalDistance | 11.35 m |
ImageHeight | 2703 |
ImageNumber | 3940 |
ImageSize | 4069x2703 |
ImageWidth | 4069 |
IncrementalTemperature | 0 |
IncrementalTint | 0 |
ISO | 200 |
Lens | 18.0-50.0 mm f/2.8 |
LensID (1) | 246 |
LensID | Sigma 18-50mm F2.8 EX DC Macro |
LensInfo | 18-50mm f/2.8 |
LensManualDistortionAmount | 0 |
LensModel | 18.0-50.0 mm f/2.8 |
LensProfileEnable | 1 |
LensProfileSetup | LensDefaults |
LightSource | Unknown |
LightValue | 14.2 |
LuminanceAdjustmentAqua | 0 |
LuminanceAdjustmentBlue | 0 |
LuminanceAdjustmentGreen | 0 |
LuminanceAdjustmentMagenta | 0 |
LuminanceAdjustmentOrange | 0 |
LuminanceAdjustmentPurple | 0 |
LuminanceAdjustmentRed | 0 |
LuminanceAdjustmentYellow | 0 |
LuminanceSmoothing | 0 |
Make | NIKON CORPORATION |
MaxApertureValue | 2.8 |
Megapixels | 11.0 |
MeteringMode | Multi-segment |
Model | NIKON D300S |
ModifyDate (1) | 2011:10:16 12:37:33+02:00 |
ModifyDate | 2011:10:16 12:37:33 |
ParametricDarks | -24 |
ParametricHighlights | -28 |
ParametricHighlightSplit | 75 |
ParametricLights | +24 |
ParametricMidtoneSplit | 50 |
ParametricShadows | +41 |
ParametricShadowSplit | 25 |
PerspectiveHorizontal | 0 |
PerspectiveRotate | 0.0 |
PerspectiveScale | 100 |
PerspectiveVertical | 0 |
PostCropVignetteAmount | 0 |
ProcessVersion | 5.7 |
ProfileDescription | sRGB IEC61966-2.1 |
RedHue | 0 |
RedSaturation | 0 |
Saturation (2) | 0 |
Saturation | Normal |
SaturationAdjustmentAqua | 0 |
SaturationAdjustmentBlue | +2 |
SaturationAdjustmentGreen | 0 |
SaturationAdjustmentMagenta | 0 |
SaturationAdjustmentOrange | 0 |
SaturationAdjustmentPurple | 0 |
SaturationAdjustmentRed | 0 |
SaturationAdjustmentYellow | 0 |
ScaleFactor35efl | 1.5 |
SceneCaptureType | Standard |
SceneType | Directly photographed |
SensingMethod | One-chip color area |
SensitivityType | Unknown |
SerialNumber | 6016607 |
Shadows | 0 |
ShadowTint | 0 |
SharpenDetail | 25 |
SharpenEdgeMasking | 0 |
SharpenRadius | +1.0 |
Sharpness (2) | 50 |
Sharpness | Normal |
ShutterSpeed | 1/320 |
ShutterSpeedValue | 1/320 |
Software | Adobe Photoshop CS2 Windows |
SplitToningBalance | 0 |
SplitToningHighlightHue | 0 |
SplitToningHighlightSaturation | 0 |
SplitToningShadowHue | 0 |
SplitToningShadowSaturation | 0 |
SubjectDistance | 4294967295 m |
SubjectDistanceRange | Unknown |
ToneCurve | 0, 0, 255, 255 |
ToneCurveName | Linear |
Version | 6.2 |
Vibrance | +24 |
VignetteAmount | 0 |
WhiteBalance (2) | As Shot |
WhiteBalance | Auto |