Felt | Verdi |
AlreadyApplied | True |
Aperture | 16.0 |
ApertureValue | 16.0 |
ApproximateFocusDistance | 4294967295 |
BitsPerSample | 8 |
BlueHue | 0 |
BlueSaturation | 0 |
Brightness | +22 |
CameraProfile | Adobe Standard |
CFAPattern | [Red,Green][Green,Blue] |
ChromaticAberrationB | 0 |
ChromaticAberrationR | 0 |
CircleOfConfusion | 0.020 mm |
Clarity | +40 |
ColorComponents | 3 |
ColorNoiseReduction | 25 |
ColorNoiseReductionDetail | 50 |
ColorTemperature | 6050 |
Contrast (2) | +26 |
Contrast | Normal |
ConvertToGrayscale | False |
CreateDate (1) | 2011:10:02 12:41:24.42+02:00 |
CreateDate | 2011:10:02 12:41:24 |
CreatorTool | Adobe Photoshop Lightroom |
CropAngle | -1.5 |
CropBottom | 0.84041 |
CropConstrainToWarp | 0 |
CropHeight | 2702 |
CropLeft | 0.044241 |
CropRight | 0.894759 |
CropTop | 0.037738 |
CropUnit | pixels |
CropWidth | 4070 |
CustomRendered | Normal |
DateTimeDigitized | 2011:10:02 12:41:24.42+02:00 |
DateTimeOriginal (1) | 2011:10:02 12:41:24.42+02:00 |
DateTimeOriginal | 2011:10:02 12:41:24 |
Defringe | 0 |
DigitalZoomRatio | 1 |
DOF | inf (1.01 m - inf) |
ExifImageHeight | 2702 |
ExifImageWidth | 4070 |
Exposure | +0.05 |
ExposureCompensation | 0 |
ExposureMode | Auto |
ExposureProgram | Aperture-priority AE |
ExposureTime | 1/100 |
FillLight | 37 |
Flash | No Flash |
FlashFired | False |
FlashFunction | False |
FlashMode | Unknown |
FlashRedEyeMode | False |
FlashReturn | No return detection |
FNumber | 16.0 |
FocalLength | 18.0 mm |
FocalLength35efl | 18.0 mm (35 mm equivalent: 27.0 mm) |
FocalLengthIn35mmFormat | 27 mm |
FOV | 67.4 deg |
GainControl | None |
GrainAmount | 0 |
GreenHue | 0 |
GreenSaturation | 0 |
HasCrop | True |
HasSettings | True |
HighlightRecovery | 0 |
HueAdjustmentAqua | 0 |
HueAdjustmentBlue | 0 |
HueAdjustmentGreen | 0 |
HueAdjustmentMagenta | 0 |
HueAdjustmentOrange | 0 |
HueAdjustmentPurple | 0 |
HueAdjustmentRed | 0 |
HueAdjustmentYellow | 0 |
HyperfocalDistance | 1.01 m |
ImageHeight | 2702 |
ImageNumber | 4411 |
ImageSize | 4070x2702 |
ImageWidth | 4070 |
ISO | 200 |
Lens | 18.0-50.0 mm f/2.8 |
LensID (1) | 246 |
LensID | Sigma 18-50mm F2.8 EX DC Macro |
LensInfo | 18-50mm f/2.8 |
LensManualDistortionAmount | 0 |
LensModel | 18.0-50.0 mm f/2.8 |
LensProfileChromaticAberrationScale | 100 |
LensProfileDistortionScale | 100 |
LensProfileEnable | 1 |
LensProfileFilename | NIKON CORPORATION (Sigma_18-50mm_F2.8_EX_DC_MACRO_HSM ) - RAW.lcp |
LensProfileName | Adobe (SIGMA 18-50mm F2.8 EX DC MACRO / HSM, NIKON CORPORATION) |
LensProfileSetup | LensDefaults |
LensProfileVignettingScale | 100 |
LightSource | Unknown |
LightValue | 13.6 |
LuminanceAdjustmentAqua | 0 |
LuminanceAdjustmentBlue | 0 |
LuminanceAdjustmentGreen | 0 |
LuminanceAdjustmentMagenta | 0 |
LuminanceAdjustmentOrange | 0 |
LuminanceAdjustmentPurple | 0 |
LuminanceAdjustmentRed | 0 |
LuminanceAdjustmentYellow | 0 |
LuminanceNoiseReductionContrast | 0 |
LuminanceNoiseReductionDetail | 50 |
LuminanceSmoothing | 24 |
Make | NIKON CORPORATION |
MaxApertureValue | 2.8 |
Megapixels | 11.0 |
MeteringMode | Multi-segment |
Model | NIKON D300S |
ModifyDate (1) | 2011:10:23 14:35:33+02:00 |
ModifyDate | 2011:10:23 14:35:33 |
PaintCorrectionActive | true |
PaintCorrectionAmount | 1.000000 |
PaintCorrectionBrightness | 0.000000 |
PaintCorrectionClarity | 0.000000 |
PaintCorrectionContrast | 0.000000 |
PaintCorrectionExposure (1) | -0.030000 |
PaintCorrectionExposure | 0.032471 |
PaintCorrectionHue | 240.000000 |
PaintCorrectionMaskCenterWeight | 0.001532 |
PaintCorrectionMaskFlow | 1.000000 |
PaintCorrectionMaskRadius (1) | 0.046731 |
PaintCorrectionMaskRadius (10) | 0.047084 |
PaintCorrectionMaskRadius (11) | 0.047848 |
PaintCorrectionMaskRadius (12) | 0.046446 |
PaintCorrectionMaskRadius (13) | 0.046504 |
PaintCorrectionMaskRadius (14) | 0.046695 |
PaintCorrectionMaskRadius (15) | 0.046659 |
PaintCorrectionMaskRadius (16) | 0.046484 |
PaintCorrectionMaskRadius (17) | 0.047211 |
PaintCorrectionMaskRadius (18) | 0.047804 |
PaintCorrectionMaskRadius (19) | 0.047899 |
PaintCorrectionMaskRadius (2) | 0.047347 |
PaintCorrectionMaskRadius (20) | 0.047771 |
PaintCorrectionMaskRadius (21) | 0.047384 |
PaintCorrectionMaskRadius (22) | 0.047092 |
PaintCorrectionMaskRadius (23) | 0.047838 |
PaintCorrectionMaskRadius (24) | 0.048289 |
PaintCorrectionMaskRadius (25) | 0.046864 |
PaintCorrectionMaskRadius (26) | 0.046772 |
PaintCorrectionMaskRadius (27) | 0.046537 |
PaintCorrectionMaskRadius (28) | 0.048373 |
PaintCorrectionMaskRadius (29) | 0.048275 |
PaintCorrectionMaskRadius (3) | 0.048106 |
PaintCorrectionMaskRadius (30) | 0.048301 |
PaintCorrectionMaskRadius (31) | 0.048313 |
PaintCorrectionMaskRadius (32) | 0.054174 |
PaintCorrectionMaskRadius (33) | 0.053846 |
PaintCorrectionMaskRadius (34) | 0.053626 |
PaintCorrectionMaskRadius (35) | 0.053599 |
PaintCorrectionMaskRadius (36) | 0.053612 |
PaintCorrectionMaskRadius (37) | 0.053272 |
PaintCorrectionMaskRadius (38) | 0.053061 |
PaintCorrectionMaskRadius (39) | 0.052912 |
PaintCorrectionMaskRadius (4) | 0.047722 |
PaintCorrectionMaskRadius (40) | 0.052648 |
PaintCorrectionMaskRadius (41) | 0.052913 |
PaintCorrectionMaskRadius (42) | 0.051894 |
PaintCorrectionMaskRadius (43) | 0.052103 |
PaintCorrectionMaskRadius (44) | 0.052192 |
PaintCorrectionMaskRadius (45) | 0.052360 |
PaintCorrectionMaskRadius (46) | 0.051992 |
PaintCorrectionMaskRadius (47) | 0.051885 |
PaintCorrectionMaskRadius (48) | 0.051945 |
PaintCorrectionMaskRadius (49) | 0.051866 |
PaintCorrectionMaskRadius (5) | 0.047581 |
PaintCorrectionMaskRadius (50) | 0.052934 |
PaintCorrectionMaskRadius (51) | 0.070697 |
PaintCorrectionMaskRadius (52) | 0.070799 |
PaintCorrectionMaskRadius (53) | 0.070134 |
PaintCorrectionMaskRadius (54) | 0.069189 |
PaintCorrectionMaskRadius (55) | 0.020645 |
PaintCorrectionMaskRadius (56) | 0.020741 |
PaintCorrectionMaskRadius (57) | 0.020640 |
PaintCorrectionMaskRadius (58) | 0.021202 |
PaintCorrectionMaskRadius (59) | 0.021243 |
PaintCorrectionMaskRadius (6) | 0.046636 |
PaintCorrectionMaskRadius (60) | 0.020651 |
PaintCorrectionMaskRadius (61) | 0.020658 |
PaintCorrectionMaskRadius (62) | 0.020834 |
PaintCorrectionMaskRadius (63) | 0.064214 |
PaintCorrectionMaskRadius (64) | 0.064338 |
PaintCorrectionMaskRadius (65) | 0.026775 |
PaintCorrectionMaskRadius (7) | 0.046613 |
PaintCorrectionMaskRadius (8) | 0.046523 |
PaintCorrectionMaskRadius (9) | 0.046866 |
PaintCorrectionMaskRadius | 0.026681 |
PaintCorrectionMaskValue | 1.000000 |
PaintCorrectionMaskWhat | Mask/Paint |
PaintCorrectionSaturation | 0.000000 |
PaintCorrectionSharpness | 0.000000 |
PaintCorrectionWhat | Correction |
ParametricDarks | 0 |
ParametricHighlights | +14 |
ParametricHighlightSplit | 75 |
ParametricLights | 0 |
ParametricMidtoneSplit | 50 |
ParametricShadows | +16 |
ParametricShadowSplit | 25 |
PerspectiveHorizontal | 0 |
PerspectiveRotate | 0.0 |
PerspectiveScale | 100 |
PerspectiveVertical | 0 |
PostCropVignetteAmount | 0 |
ProcessVersion | 5.7 |
ProfileDescription | sRGB IEC61966-2.1 |
RedHue | 0 |
RedSaturation | 0 |
Saturation (2) | 0 |
Saturation | Normal |
SaturationAdjustmentAqua | 0 |
SaturationAdjustmentBlue | +50 |
SaturationAdjustmentGreen | 0 |
SaturationAdjustmentMagenta | 0 |
SaturationAdjustmentOrange | +59 |
SaturationAdjustmentPurple | 0 |
SaturationAdjustmentRed | 0 |
SaturationAdjustmentYellow | 0 |
ScaleFactor35efl | 1.5 |
SceneCaptureType | Standard |
SceneType | Directly photographed |
SensingMethod | One-chip color area |
SensitivityType | Unknown |
SerialNumber | 6016607 |
Shadows | 3 |
ShadowTint | 0 |
SharpenDetail | 59 |
SharpenEdgeMasking | 0 |
SharpenRadius | +1.6 |
Sharpness (2) | 60 |
Sharpness | Normal |
ShutterSpeed | 1/100 |
ShutterSpeedValue | 1/100 |
Software | Ver.1.00 |
SplitToningBalance | 0 |
SplitToningHighlightHue | 0 |
SplitToningHighlightSaturation | 0 |
SplitToningShadowHue | 0 |
SplitToningShadowSaturation | 0 |
SubjectDistance | 4294967295 m |
SubjectDistanceRange | Unknown |
Tint | +1 |
ToneCurve | 0, 0, 32, 22, 64, 56, 128, 128, 192, 196, 255, 255 |
ToneCurveName | Medium Contrast |
Version | 6.2 |
Vibrance | +40 |
VignetteAmount | 0 |
WhiteBalance (2) | As Shot |
WhiteBalance | Auto |