Felt | Verdi |
AlreadyApplied | True |
Aperture | 2.8 |
ApertureValue | 2.8 |
ApproximateFocusDistance | 1.78 |
Artist | Jaktmeister |
BitsPerSample | 8 |
BlueHue | 0 |
BlueSaturation | 0 |
Brightness | +54 |
By-line | Jaktmeister |
CameraProfile | Embedded |
CFAPattern | [Red,Green][Green,Blue] |
ChromaticAberrationB | 0 |
ChromaticAberrationR | 0 |
CircleOfConfusion | 0.020 mm |
Clarity | +63 |
ColorComponents | 3 |
ColorNoiseReduction | 100 |
ColorNoiseReductionDetail | 50 |
Contrast (1) | +43 |
Contrast | Normal |
ConvertToGrayscale | False |
Copyright | Jaktmeister |
CopyrightNotice | Jaktmeister |
CreateDate (1) | 2011:12:15 05:58:07.10 |
CreateDate | 2011:12:15 05:58:07 |
Creator | Jaktmeister |
CreatorTool | Adobe Photoshop Lightroom 3.4 |
CropAngle | -2.1061 |
CropBottom | 0.952977 |
CropConstrainToWarp | 0 |
CropHeight | 2507 |
CropLeft | 0.149345 |
CropRight | 0.868921 |
CropTop | 0.224492 |
CropUnit | pixels |
CropWidth | 3456 |
CustomRendered | Normal |
DateCreated (1) | 2011:12:15 |
DateCreated | 2011:12:15 05:58:07.10 |
DateTimeOriginal | 2011:12:15 05:58:07 |
Defringe | 0 |
DigitalZoomRatio | 1 |
DOF | 1.41 m (1.32 - 2.73 m) |
Exposure | +0.60 |
ExposureCompensation | 0 |
ExposureMode | Auto |
ExposureProgram | Program AE |
ExposureTime | 10 |
FillLight | 0 |
Flash | Off, Did not fire |
FNumber | 2.8 |
FocalLength | 17.0 mm |
FocalLength35efl | 17.0 mm (35 mm equivalent: 25.0 mm) |
FocalLengthIn35mmFormat | 25 mm |
FOV | 71.5 deg |
GainControl | Low gain up |
GrainAmount | 0 |
GreenHue | 0 |
GreenSaturation | 0 |
HasCrop | True |
HasSettings | True |
HighlightRecovery | 100 |
HueAdjustmentAqua | 0 |
HueAdjustmentBlue | 0 |
HueAdjustmentGreen | 0 |
HueAdjustmentMagenta | 0 |
HueAdjustmentOrange | 0 |
HueAdjustmentPurple | 0 |
HueAdjustmentRed | 0 |
HueAdjustmentYellow | 0 |
HyperfocalDistance | 5.05 m |
ImageHeight | 3456 |
ImageNumber | 6244 |
ImageSize | 2507x3456 |
ImageWidth | 2507 |
IncrementalTemperature | +5 |
IncrementalTint | -35 |
ISO | 400 |
Lens | 17.0-70.0 mm f/2.8-4.0 |
LensID (1) | 160 |
LensID | Sigma 17-70mm F2.8-4 DC Macro OS HSM |
LensInfo | 17-70mm f/2.8-4 |
LensManualDistortionAmount | 0 |
LensModel | 17.0-70.0 mm f/2.8-4.0 |
LensProfileEnable | 0 |
LensProfileSetup | LensDefaults |
LightSource | Flash |
LightValue | -2.4 |
LuminanceAdjustmentAqua | -77 |
LuminanceAdjustmentBlue | -100 |
LuminanceAdjustmentGreen | +38 |
LuminanceAdjustmentMagenta | 0 |
LuminanceAdjustmentOrange | +26 |
LuminanceAdjustmentPurple | -62 |
LuminanceAdjustmentRed | +89 |
LuminanceAdjustmentYellow | +19 |
LuminanceNoiseReductionContrast | 0 |
LuminanceNoiseReductionDetail | 50 |
LuminanceSmoothing | 100 |
Make | NIKON CORPORATION |
MaxApertureValue | 2.8 |
Megapixels | 8.7 |
MeteringMode | Center-weighted average |
Model | NIKON D7000 |
ModifyDate (1) | 2011:12:19 04:35:01+07:00 |
ModifyDate | 2011:12:19 04:35:01 |
ParametricDarks | +24 |
ParametricHighlights | -5 |
ParametricHighlightSplit | 75 |
ParametricLights | +1 |
ParametricMidtoneSplit | 50 |
ParametricShadows | +34 |
ParametricShadowSplit | 25 |
PerspectiveHorizontal | 0 |
PerspectiveRotate | 0.0 |
PerspectiveScale | 100 |
PerspectiveVertical | 0 |
PostCropVignetteAmount | -35 |
PostCropVignetteFeather | 50 |
PostCropVignetteHighlightContrast | 0 |
PostCropVignetteMidpoint | 50 |
PostCropVignetteRoundness | 0 |
PostCropVignetteStyle | 1 |
ProcessVersion | 5.7 |
ProfileDescription | sRGB IEC61966-2.1 |
RedHue | 0 |
RedSaturation | 0 |
Rights | Jaktmeister |
Saturation (1) | -100 |
Saturation | Normal |
SaturationAdjustmentAqua | -100 |
SaturationAdjustmentBlue | -100 |
SaturationAdjustmentGreen | -100 |
SaturationAdjustmentMagenta | -100 |
SaturationAdjustmentOrange | -100 |
SaturationAdjustmentPurple | -100 |
SaturationAdjustmentRed | -100 |
SaturationAdjustmentYellow | -100 |
ScaleFactor35efl | 1.5 |
SceneCaptureType | Standard |
SceneType | Directly photographed |
SensingMethod | One-chip color area |
SensitivityType | Recommended Exposure Index |
SerialNumber | 5041238 |
Shadows | 33 |
ShadowTint | 0 |
SharpenDetail | 25 |
SharpenEdgeMasking | 0 |
SharpenRadius | +1.0 |
Sharpness (1) | 100 |
Sharpness | Normal |
ShutterSpeed | 10 |
ShutterSpeedValue | 10 |
Software | Adobe Photoshop Lightroom 3.4 |
SplitToningBalance | -100 |
SplitToningHighlightHue | 40 |
SplitToningHighlightSaturation | 0 |
SplitToningShadowHue | 40 |
SplitToningShadowSaturation | 20 |
SubjectDistance | 1.78 m |
SubjectDistanceRange | Unknown |
ToneCurve | 0, 0, 32, 22, 64, 56, 128, 128, 192, 196, 255, 255 |
ToneCurveName | Medium Contrast |
Version | 6.4 |
Vibrance | +100 |
VignetteAmount | -100 |
VignetteMidpoint | 37 |
WhiteBalance (1) | Custom |
WhiteBalance | Manual |