Felt | Verdi |
AlreadyApplied | True |
Aperture | 4.0 |
ApertureValue | 4.0 |
ApproximateFocusDistance | 11.9 |
Artist | www.jpmfoto.no |
AutoLateralCA | 0 |
BitsPerSample | 8 |
Blacks2012 | -47 |
BlueHue | 0 |
BlueSaturation | 0 |
By-line | www.jpmfoto.no |
CameraProfile | Adobe Standard |
Clarity2012 | 0 |
ColorComponents | 1 |
ColorMode | RGB |
ColorNoiseReduction | 25 |
ColorNoiseReductionDetail | 50 |
ColorSpace | sRGB |
ColorTemperature | 4550 |
Contrast2012 | +54 |
ConvertToGrayscale | True |
Copyright | Foto: Jon Petter Marthinsen |
CopyrightNotice | Foto: Jon Petter Marthinsen |
CreateDate (1) | 2013:12:02 12:32:51.00 |
CreateDate | 2013:12:02 12:32:51 |
Creator | www.jpmfoto.no |
CreatorTool | Adobe Photoshop Lightroom 4.4 (Macintosh) |
CustomRendered | Normal |
DateCreated | 2013:12:02 |
DateTimeOriginal (1) | 2013:12:02 12:32:51+01:00 |
DateTimeOriginal | 2013:12:02 12:32:51 |
ExifImageHeight | 1033 |
ExifImageWidth | 1550 |
Exposure2012 | 0.00 |
ExposureCompensation | 0 |
ExposureMode | Auto |
ExposureTime | 1/80 |
Firmware | 1.2.1 |
Flash | Off, Did not fire |
FlashCompensation | 0 |
FlashFired | False |
FlashFunction | False |
FlashMode | Off |
FlashRedEyeMode | False |
FlashReturn | No return detection |
FNumber | 4.0 |
Format | image/jpeg |
GrainAmount | 0 |
GrayMixerAqua | -21 |
GrayMixerBlue | +3 |
GrayMixerGreen | -22 |
GrayMixerMagenta | +7 |
GrayMixerOrange | +40 |
GrayMixerPurple | +13 |
GrayMixerRed | +31 |
GrayMixerYellow | +40 |
GreenHue | 0 |
GreenSaturation | 0 |
HasCrop | False |
HasSettings | True |
Highlights2012 | -2 |
ICCProfileName | sRGB v1.31 (Canon) |
ImageHeight | 1033 |
ImageNumber | 0 |
ImageSize | 1550x1033 |
ImageWidth | 1550 |
Lens | EF24-105mm f/4L IS USM |
LensID (1) | 237 |
LensID | Canon EF 24-105mm f/4L IS USM |
LensInfo | 24-105mm f/? |
LensManualDistortionAmount | 0 |
LensModel | EF24-105mm f/4L IS USM |
LensProfileEnable | 0 |
LensProfileSetup | LensDefaults |
LensSerialNumber | 000051ac8d |
LuminanceSmoothing | 0 |
Make | Canon |
Megapixels | 1.6 |
Model | Canon EOS 5D Mark III |
ModifyDate (1) | 2014:01:17 20:09:04+01:00 |
ModifyDate | 2014:01:17 20:09:04 |
Orientation | Horizontal (normal) |
OwnerName | www.jpmfoto.no |
ParametricDarks | +17 |
ParametricHighlights | 0 |
ParametricHighlightSplit | 75 |
ParametricLights | -35 |
ParametricMidtoneSplit | 50 |
ParametricShadows | +25 |
ParametricShadowSplit | 25 |
PerspectiveHorizontal | 0 |
PerspectiveRotate | 0.0 |
PerspectiveScale | 100 |
PerspectiveVertical | 0 |
PostCropVignetteAmount | 0 |
ProcessVersion | 6.7 |
ProfileDescription | sRGB v1.31 (Canon) |
RedHue | 0 |
RedSaturation | 0 |
RelatedImageHeight | 3840 |
RelatedImageWidth | 5760 |
Rights | Foto: Jon Petter Marthinsen |
SceneCaptureType | Standard |
SerialNumber | 063024018783 |
Shadows2012 | 0 |
ShadowTint | 0 |
SharpenDetail | 25 |
SharpenEdgeMasking | 0 |
SharpenRadius | +1.0 |
Sharpness | 25 |
ShutterSpeed | 1/80 |
ShutterSpeedValue | 1/80 |
Software | Adobe Photoshop Elements 10.0 Macintosh |
SplitToningBalance | 0 |
SplitToningHighlightHue | 0 |
SplitToningHighlightSaturation | 0 |
SplitToningShadowHue | 0 |
SplitToningShadowSaturation | 0 |
Tint | +2 |
ToneCurveName2012 | Strong Contrast |
ToneCurvePV2012 | 0, 0, 32, 16, 64, 50, 128, 128, 192, 202, 255, 255 |
ToneCurvePV2012Blue | 0, 0, 255, 255 |
ToneCurvePV2012Green | 0, 0, 255, 255 |
ToneCurvePV2012Red | 0, 0, 255, 255 |
URL_List | |
UserComment | |
Version | 7.4 |
VignetteAmount | 0 |
WhiteBalance (1) | As Shot |
WhiteBalance | Auto |
Whites2012 | 0 |