Felt | Verdi |
AlreadyApplied | True |
Aperture | 11.0 |
ApertureValue | 11.0 |
ApproximateFocusDistance | 4294967295 |
AutoLateralCA | 1 |
BitsPerSample | 8 |
Blacks2012 | -14 |
BlueHue | 0 |
BlueSaturation | 0 |
CameraProfile | Camera Landscape |
CFAPattern | [Red,Green][Green,Blue] |
CircleOfConfusion | 0.020 mm |
Clarity2012 | +25 |
ColorComponents | 3 |
ColorMode | RGB |
ColorNoiseReduction | 25 |
ColorNoiseReductionDetail | 50 |
ColorSpace | sRGB |
ColorTemperature | 5000 |
Contrast | Normal |
Contrast2012 | +47 |
ConvertToGrayscale | False |
CreateDate | 2013:07:16 21:53:29 |
CreatorTool | Ver.1.01 |
CropAngle | 0.407502 |
CropBottom | 1 |
CropConstrainToWarp | 1 |
CropLeft | 0.007624 |
CropRight | 0.992376 |
CropTop | 0 |
CustomRendered | Normal |
DateCreated (1) | 2013:07:16 |
DateCreated | 2013:07:16 21:53:29 |
DateTimeOriginal | 2013:07:16 21:53:29 |
DefringeGreenAmount | 0 |
DefringeGreenHueHi | 60 |
DefringeGreenHueLo | 40 |
DefringePurpleAmount | 0 |
DefringePurpleHueHi | 70 |
DefringePurpleHueLo | 30 |
DigitalZoomRatio | 1 |
DOF | inf (4.65 m - inf) |
ExifImageHeight | 3958 |
ExifImageWidth | 5937 |
Exposure2012 | -0.70 |
ExposureCompensation | +1 |
ExposureMode | Auto |
ExposureProgram | Aperture-priority AE |
ExposureTime | 1/125 |
Flash | Off, Did not fire |
FNumber | 11.0 |
FocalLength | 32.0 mm |
FocalLength35efl | 32.0 mm (35 mm equivalent: 48.0 mm) |
FocalLengthIn35mmFormat | 48 mm |
Format | image/jpeg |
FOV | 41.1 deg |
GainControl | Low gain up |
GrainAmount | 0 |
GreenHue | 0 |
GreenSaturation | 0 |
HasCrop | True |
HasSettings | True |
Highlights2012 | -100 |
HueAdjustmentAqua | 0 |
HueAdjustmentBlue | 0 |
HueAdjustmentGreen | 0 |
HueAdjustmentMagenta | 0 |
HueAdjustmentOrange | 0 |
HueAdjustmentPurple | 0 |
HueAdjustmentRed | 0 |
HueAdjustmentYellow | 0 |
HyperfocalDistance | 4.65 m |
ICCProfileName | sRGB IEC61966-2.1 |
ImageHeight | 3958 |
ImageNumber | 503 |
ImageSize | 5937x3958 |
ImageWidth | 5937 |
ISO | 500 |
Lens | 17.0-70.0 mm f/2.8-4.0 |
LensID (1) | 160 |
LensID | Sigma 17-70mm F2.8-4 DC Macro OS HSM |
LensInfo | 17-70mm f/2.8-4 |
LensManualDistortionAmount | 0 |
LensModel | 17.0-70.0 mm f/2.8-4.0 |
LensProfileChromaticAberrationScale | 100 |
LensProfileDistortionScale | 100 |
LensProfileEnable | 1 |
LensProfileFilename | NIKON CORPORATION (Sigma_17-70mm_F2.8-4_DC_MACRO_OS_HSM ) - RAW.lcp |
LensProfileName | Adobe (SIGMA 17-70mm F2.8-4 DC MACRO OS HSM, NIKON CORPORATION) |
LensProfileSetup | LensDefaults |
LensProfileVignettingScale | 100 |
LightSource | Fine Weather |
LightValue | 11.6 |
LuminanceAdjustmentAqua | 0 |
LuminanceAdjustmentBlue | 0 |
LuminanceAdjustmentGreen | 0 |
LuminanceAdjustmentMagenta | 0 |
LuminanceAdjustmentOrange | 0 |
LuminanceAdjustmentPurple | 0 |
LuminanceAdjustmentRed | 0 |
LuminanceAdjustmentYellow | 0 |
LuminanceNoiseReductionContrast | 8 |
LuminanceNoiseReductionDetail | 50 |
LuminanceSmoothing | 18 |
Make | NIKON CORPORATION |
MaxApertureValue | 3.4 |
Megapixels | 23.5 |
MeteringMode | Multi-segment |
Model | NIKON D7100 |
ModifyDate (1) | 2014:03:03 21:23:16+01:00 |
ModifyDate | 2014:03:03 21:23:16 |
Orientation | Horizontal (normal) |
PaintCorrectionActive | true |
PaintCorrectionAmount | 1.000000 |
PaintCorrectionBrightness | 0.000000 |
PaintCorrectionClarity | 0.000000 |
PaintCorrectionClarity2012 | 0.000000 |
PaintCorrectionContrast | 0.000000 |
PaintCorrectionContrast2012 | 0.000000 |
PaintCorrectionDefringe | 0.000000 |
PaintCorrectionExposure | 0.000000 |
PaintCorrectionExposure2012 (1) | -0.062500 |
PaintCorrectionExposure2012 (2) | 0.137500 |
PaintCorrectionExposure2012 | 0.000000 |
PaintCorrectionHighlights2012 | 0.000000 |
PaintCorrectionHue | 230.000000 |
PaintCorrectionLuminanceNoise | 0.000000 |
PaintCorrectionMaskCenterWeight | 0.000000 |
PaintCorrectionMaskFlow | 0.888889 |
PaintCorrectionMaskRadius (1) | 0.164356 |
PaintCorrectionMaskRadius (2) | 0.167947 |
PaintCorrectionMaskRadius | 0.161867 |
PaintCorrectionMaskValue | 0.950000 |
PaintCorrectionMaskWhat | Mask/Paint |
PaintCorrectionMoire | 0.000000 |
PaintCorrectionSaturation | 0.000000 |
PaintCorrectionShadows2012 | 0.000000 |
PaintCorrectionSharpness (1) | 0.000000 |
PaintCorrectionSharpness | 0.250000 |
PaintCorrectionTemperature (2) | 0.140000 |
PaintCorrectionTemperature | 0.000000 |
PaintCorrectionTint | 0.000000 |
PaintCorrectionWhat | Correction |
ParametricDarks | 0 |
ParametricHighlights | 0 |
ParametricHighlightSplit | 75 |
ParametricLights | 0 |
ParametricMidtoneSplit | 50 |
ParametricShadows | 0 |
ParametricShadowSplit | 25 |
PerspectiveHorizontal | 0 |
PerspectiveRotate | 0.0 |
PerspectiveScale | 100 |
PerspectiveVertical | 0 |
PostCropVignetteAmount | 0 |
ProcessVersion | 6.7 |
ProfileDescription | sRGB IEC61966-2.1 |
Rating | 0 |
RawFileName | JTO_0495.NEF |
RedHue | 0 |
RedSaturation | 0 |
Saturation (1) | -19 |
Saturation | Normal |
SaturationAdjustmentAqua | 0 |
SaturationAdjustmentBlue | 0 |
SaturationAdjustmentGreen | 0 |
SaturationAdjustmentMagenta | 0 |
SaturationAdjustmentOrange | 0 |
SaturationAdjustmentPurple | 0 |
SaturationAdjustmentRed | 0 |
SaturationAdjustmentYellow | 0 |
ScaleFactor35efl | 1.5 |
SceneCaptureType | Standard |
SceneType | Directly photographed |
SensingMethod | One-chip color area |
SensitivityType | Recommended Exposure Index |
SerialNumber | 4301032 |
Shadows2012 | +98 |
ShadowTint | 0 |
SharpenDetail | 25 |
SharpenEdgeMasking | 52 |
SharpenRadius | +1.0 |
Sharpness (1) | 41 |
Sharpness | Hard |
ShutterSpeed | 1/125 |
ShutterSpeedValue | 1/125 |
Software | Adobe Photoshop CS6 (Windows) |
SplitToningBalance | 0 |
SplitToningHighlightHue | 0 |
SplitToningHighlightSaturation | 0 |
SplitToningShadowHue | 0 |
SplitToningShadowSaturation | 0 |
SubjectDistanceRange | Unknown |
Tint | +1 |
ToneCurveName2012 | Linear |
ToneCurvePV2012 | 0, 0, 255, 255 |
ToneCurvePV2012Blue | 0, 0, 255, 255 |
ToneCurvePV2012Green | 0, 0, 255, 255 |
ToneCurvePV2012Red | 0, 0, 255, 255 |
URL_List | |
Version | 7.4 |
Vibrance | +10 |
VignetteAmount | 0 |
WhiteBalance (1) | As Shot |
WhiteBalance | Manual |
Whites2012 | +22 |